BEGIN:VCALENDAR
VERSION:2.0
PRODID:-//Eventi in Toscana By Toscana Tascabile - ECPv6.15.12.2//NONSGML v1.0//EN
CALSCALE:GREGORIAN
METHOD:PUBLISH
X-ORIGINAL-URL:https://www.eventiintoscana.it
X-WR-CALDESC:Eventi per Eventi in Toscana By Toscana Tascabile
REFRESH-INTERVAL;VALUE=DURATION:PT1H
X-Robots-Tag:noindex
X-PUBLISHED-TTL:PT1H
BEGIN:VTIMEZONE
TZID:Europe/Rome
BEGIN:DAYLIGHT
TZOFFSETFROM:+0100
TZOFFSETTO:+0200
TZNAME:CEST
DTSTART:20250330T010000
END:DAYLIGHT
BEGIN:STANDARD
TZOFFSETFROM:+0200
TZOFFSETTO:+0100
TZNAME:CET
DTSTART:20251026T010000
END:STANDARD
BEGIN:DAYLIGHT
TZOFFSETFROM:+0100
TZOFFSETTO:+0200
TZNAME:CEST
DTSTART:20260329T010000
END:DAYLIGHT
BEGIN:STANDARD
TZOFFSETFROM:+0200
TZOFFSETTO:+0100
TZNAME:CET
DTSTART:20261025T010000
END:STANDARD
BEGIN:DAYLIGHT
TZOFFSETFROM:+0100
TZOFFSETTO:+0200
TZNAME:CEST
DTSTART:20270328T010000
END:DAYLIGHT
BEGIN:STANDARD
TZOFFSETFROM:+0200
TZOFFSETTO:+0100
TZNAME:CET
DTSTART:20271031T010000
END:STANDARD
END:VTIMEZONE
BEGIN:VEVENT
DTSTART;TZID=Europe/Rome:20260124T090000
DTEND;TZID=Europe/Rome:20261227T170000
DTSTAMP:20260421T114934
CREATED:20260109T103656Z
LAST-MODIFIED:20260403T135522Z
UID:322277-1769245200-1798390800@www.eventiintoscana.it
SUMMARY:Collezionare in Piazza\, Prato
DESCRIPTION:Tanti appuntamenti anche nel 2026 con Collezionare in Piazza\, il mercatino di piccolo antiquariato\, collezionismo\, modernariato\, rigatteria\, vintage\, artigianato e hobbisti protagonista ogni ultimo fine settimana del mese in piazza San Francesco a Prato. \nDopo aver preso il via a gennaio\, gli appuntamenti targati associazione culturale Il Penny proseguono il 25 e 26 aprile\, il 30 e 31 maggio\, il 27 giugno\, il 26 e 27 settembre\, il 24 e 25 ottobre\, il 28 e 29 novembre e il 27 dicembre. A queste si aggiunge un’edizione straordinaria natalizia del mercato\, in programma martedì 8 dicembre e poi nel fine settimana del 18\, 19 e 20 dicembre.\n \n\nInfo: 339.5423347 (solo whatsapp) – ilpenny@virgilio.it – Pagina Facebook
URL:https://www.eventiintoscana.it/evento/collezionare-in-piazza-prato
CATEGORIES:Fiere e Mercatini,Prato
ATTACH;FMTTYPE=image/jpeg:https://www.eventiintoscana.it/wp-content/uploads/2026/01/Collezionare-in-Piazza-Prato.jpeg
END:VEVENT
BEGIN:VEVENT
DTSTART;TZID=Europe/Rome:20260203T090000
DTEND;TZID=Europe/Rome:20260204T190000
DTSTAMP:20260421T114934
CREATED:20260128T152729Z
LAST-MODIFIED:20260131T170017Z
UID:322706-1770109200-1770231600@www.eventiintoscana.it
SUMMARY:Fiera di San Biagio\, Pietrasanta
DESCRIPTION:Il 3 ed il 4 febbraio a Pietrasanta la Fiera di San Biagio in viale Oberdan accompagna la tradizionale celebrazione religiosa del santo con la benedizione della gola e la venerazione della reliquia nella Collegiata di San Martino. La Fiera agro-zootecnica prevede l’esposizione di animali\, banchi enogastronomici e d’artigianato. Centinaia di bancarelle lungo le strade del centro storico diventano un punto d’incontro per tantissimi visitatori che arrivano da ogni parte della Toscana. \n\nInfo: 0584.7951 – www.comune.pietrasanta.lu.it \n 
URL:https://www.eventiintoscana.it/evento/fiera-di-san-biagio-pietrasanta
CATEGORIES:Fiere e Mercatini,Lucca
ATTACH;FMTTYPE=image/jpeg:https://www.eventiintoscana.it/wp-content/uploads/2026/01/fiera-san-biagio-2026.jpg
END:VEVENT
BEGIN:VEVENT
DTSTART;TZID=Europe/Rome:20260207T093000
DTEND;TZID=Europe/Rome:20260208T183000
DTSTAMP:20260421T114934
CREATED:20260128T151500Z
LAST-MODIFIED:20260131T170139Z
UID:322703-1770456600-1770575400@www.eventiintoscana.it
SUMMARY:Esotika Pet Show\, Arezzo
DESCRIPTION:Sabato 7 e domenica 8 febbraio ad Arezzo torna l’ormai consueto appuntamento con Esotika Pet Show\, la mostra-scambio di animali esotici e da compagnia negli spazi espositivi di Arezzo Fiere e Congressi. La mostra include l’esposizione e la vendita di rettili\, anfibi\, tartarughe\, roditori\, rapaci\, pappagalli\, pesci ornamentali\, oltre a prodotti per animali da compagnia\, accessori\, mangimi\, le ultime novità del settore\, piante\, complementi d’arredo e strutture varie. \nLa fiera è rivolta a chi vuole avvicinarsi al mondo del pet per conoscere gli animali da vicino e a chi già possiede un animale domestico e può apprendere il modo più corretto di relazionarsi con il proprio piccolo amico. Oltre alla parte espositiva i due giorni prevedono un ricco programma didattico per il pubblico: terrascaping\, aquascaping\, expo rettili\, dog movie casting\, falconeria\, gold fish show\, esposizione di cincillà e cavie peruviane\, e molto altro. Orari: sabato e domenica dalle 9.30 alle 18.30. \n\nInfo: 0575.9361 – www.esotikapetshow.it
URL:https://www.eventiintoscana.it/evento/esotika-pet-show-arezzo-3
CATEGORIES:arezzo,Fiere e Mercatini
ATTACH;FMTTYPE=image/jpeg:https://www.eventiintoscana.it/wp-content/uploads/2026/01/arezzo-esotika-pet-show.jpg
END:VEVENT
BEGIN:VEVENT
DTSTART;VALUE=DATE:20260208
DTEND;VALUE=DATE:20260209
DTSTAMP:20260421T114934
CREATED:20260114T162431Z
LAST-MODIFIED:20260131T170652Z
UID:322313-1770508800-1770595199@www.eventiintoscana.it
SUMMARY:I love Vintage Market\, Firenze
DESCRIPTION:Una domenica dedicata a chi ama il vintage e l’artigianato\, le cose belle fatte col cuore: l’8 febbraio\, negli spazi di The Social Hub a Firenze\, è in programma una nuova edizione di I love Vintage Market\, il vintage market targato Pimp My Vintage. \nAlcuni dei migliori stand di vintage e artigianato riempiranno di capi e accessori unici gli spazi di The Social Hub\, insieme a nuovi brand e opere di giovani artisti. Qui\, dalle ore 11 alle 20\, è possibile trovare tanto vintage selezionato\, tra vestiti\, borse\, gioielli\, oggettistica\, locandine\, accessori\, vinili e design. Non mancherà l’artigianato\, con pezzi fatti a mano con tecniche e materiali di riciclo\, per vivere la stagione in modo originale e sostenibile. E in contemporanea sono in programma anche workshop e laboratori\, che si terranno nelle classroom dell’area Breakout. \nTra gli stand presenti tanti progetti creativi e di recupero\, come quelli di Prisca (Prisca Soulart)\, che segue personalmente tutto il processo dei capi che crea\, dalla scelta dei tessuti in India fino alla realizzazione del capo e alla sua diffusione. Un vintage super selezionato dal gusto fortemente italiano e mediterraneo è quello di Velia Vintage Mediterraneo\, che seleziona con cura capi unici dallo stile elegante e ricercato. O ancora Barbara Vintage\, che colleziona locandine e pubblicità dai primi del ‘900 agli anni ‘90 e li trasforma in opere da incorniciare che raccontano l’evoluzione della moda\, del costume e del linguaggio. \n\nInfo: pimpmyvintage@gmail.com – www.facebook.com/PimpMyVintage
URL:https://www.eventiintoscana.it/evento/i-love-vintage-market-firenze-2
CATEGORIES:Fiere e Mercatini,Firenze
ATTACH;FMTTYPE=image/jpeg:https://www.eventiintoscana.it/wp-content/uploads/2026/01/I-love-Vintage-Market-Pimp-My-Vintage.jpg
END:VEVENT
BEGIN:VEVENT
DTSTART;TZID=Europe/Rome:20260214T093000
DTEND;TZID=Europe/Rome:20260216T183000
DTSTAMP:20260421T114934
CREATED:20260128T143614Z
LAST-MODIFIED:20260131T170439Z
UID:322693-1771061400-1771266600@www.eventiintoscana.it
SUMMARY:Immagine Italia & Co.\, Firenze
DESCRIPTION:Da sabato 14 a lunedì 16 febbraio torna alla Fortezza da Basso di Firenze la 19ª edizione della Fiera internazionale dell’intimo\, ovvero Immagine Italia & Co.\,  l’appuntamento che rappresenta una vetrina di riferimento sulle collezioni intimo e lingerie dell’autunno/inverno 2026-27. Oltre 150 brand registrati\, provenienti da ogni parte del mondo\, trovano spazio nel più longevo salone italiano dedicato alla lingerie\, al meglio dell’homewear e degli accessori underwear di fascia premium. La novità è un’area green per scoprire le ultime innovazioni della filiera produttiva virtuosa e promuovere pratiche responsabili e trasparenti. Confermate le collaborazioni per favorire l’incoming di buyer esteri. Orari: sabato 9.30-18.30\, domenica 9-18.30\, lunedì 9-16. \n\nInfo: 055.2048199 – immagineitalia.underbeach.eu
URL:https://www.eventiintoscana.it/evento/immagine-italia-co-firenze-2
CATEGORIES:Fiere e Mercatini,Firenze
ATTACH;FMTTYPE=image/jpeg:https://www.eventiintoscana.it/wp-content/uploads/2026/01/321289262_634371535112861_1290313211642236800_n.jpg
END:VEVENT
BEGIN:VEVENT
DTSTART;TZID=Europe/Rome:20260214T100000
DTEND;TZID=Europe/Rome:20260215T180000
DTSTAMP:20260421T114934
CREATED:20260128T153315Z
LAST-MODIFIED:20260131T170559Z
UID:322709-1771063200-1771178400@www.eventiintoscana.it
SUMMARY:Fiera Elettronica\, Pistoia
DESCRIPTION:Dalle 10 alle 18\, sia sabato 14 che domenica 15 febbraio\, torna la Fiera Elettronica a Pistoia presso La Cattedrale (area espositiva Ex Breda). Un evento che raggruppa tutti gli appassionati di tecnologia\, elettronica e innovazione. Tra gli stand si possono trovare le ultime novità nel campo dell’elettronica di consumo e dell’informatica fino ai componenti hardware\, software\, strumenti e gadget di ogni tipo. Inoltre i visitatori avranno la possibilità di trovare sistemi di illuminazione e lampadine\, piccoli pannelli fotovoltaici\, cover per cellulari e pc\, droni e stampanti 3D. In contemporanea all’evento valido per tutte le età e i livelli di competenza\, si svolgerà anche quest’anno Militoscana\, la mostra scambio militaria. \n\nInfo: 0571.22266 – www.prometeoeventi.it
URL:https://www.eventiintoscana.it/evento/fiera-elettronica-pistoia-3
CATEGORIES:Fiere e Mercatini,Pistoia
ATTACH;FMTTYPE=image/png:https://www.eventiintoscana.it/wp-content/uploads/2026/01/fiera-elettronica-pistoia.png
END:VEVENT
BEGIN:VEVENT
DTSTART;TZID=Europe/Rome:20260214T100000
DTEND;TZID=Europe/Rome:20260215T190000
DTSTAMP:20260421T114934
CREATED:20260213T135341Z
LAST-MODIFIED:20260213T145846Z
UID:323141-1771063200-1771182000@www.eventiintoscana.it
SUMMARY:Mostra del disco\, Livorno
DESCRIPTION:Un weekend dedicato al collezionismo musicale: sabato 14 e domenica 15 febbraio al Centro Commerciale Parco Levante di Livorno è in programma la 7ª edizione della Mostra del Disco\, usato e da collezione\, organizzata da Ganzo! Eventi Culturali. \nTra i banchi della mostra mercato\, dalle ore 10 alle 19\, è possibile trovare un vasto assortimento di vinili a 33 e 45 giri\, cd e rarità\, proposte da espositori selezionati. Si tratta di un’offerta vasta che spazia dal rock al jazz\, dal pop alla musica elettronica\, dal blues al metal\, garantendo una varietà che abbraccia ogni genere musicale e ogni fascia di prezzo\, per soddisfare sia il collezionista esperto sia il giovane curioso. \n\nInfo: ganzoeventiculturali@gmail.com – www.ganzoeventiculturali.it
URL:https://www.eventiintoscana.it/evento/mostra-del-disco-livorno
CATEGORIES:Fiere e Mercatini,Livorno
ATTACH;FMTTYPE=image/jpeg:https://www.eventiintoscana.it/wp-content/uploads/2026/02/Mostra-del-disco-Livorno.jpg
END:VEVENT
BEGIN:VEVENT
DTSTART;VALUE=DATE:20260215
DTEND;VALUE=DATE:20260216
DTSTAMP:20260421T114934
CREATED:20260213T133636Z
LAST-MODIFIED:20260213T133844Z
UID:323135-1771113600-1771199999@www.eventiintoscana.it
SUMMARY:Pescia VintageMania\, Pescia
DESCRIPTION:Domenica 15 febbraio torna Pescia VintageMania: tutto l’usato di qualità!\, la manifestazione fieristica dedicata al vintage e all’usato di qualità organizzata dall’associazione culturale Pinocchio 3000  in collaborazione con il Comune di Pescia. L’appuntamento è dalle ore 9 alle 18 presso l’ex mercato dei fiori\, dove appassionati e curiosi\, girando tra le bancarelle di un centinaio di espositori provenienti da tutta Italia\, troveranno numerosi prodotti. Tra questi\, abbigliamento usato\, bigiotteria\, giocattoli\, accessori per la casa e la persona\, calzature\, dischi in vinile\, musicassette\, cd\, vecchi impianti stereo\, videogiochi\, libri\, fumetti\, handmade\, modernariato\, collezionismo\, hobbistica e molto altro. \n\nInfo: 0572.1913547 – Pagina Facebook
URL:https://www.eventiintoscana.it/evento/pescia-vintagemania-pescia-2
CATEGORIES:Fiere e Mercatini,Pistoia
ATTACH;FMTTYPE=image/jpeg:https://www.eventiintoscana.it/wp-content/uploads/2026/02/Pescia-VintageMania-Pescia.jpg
END:VEVENT
BEGIN:VEVENT
DTSTART;TZID=Europe/Rome:20260220T090000
DTEND;TZID=Europe/Rome:20260222T190000
DTSTAMP:20260421T114934
CREATED:20260128T143034Z
LAST-MODIFIED:20260131T170907Z
UID:322689-1771578000-1771786800@www.eventiintoscana.it
SUMMARY:Danza in Fiera\, Firenze
DESCRIPTION:La 20ª edizione del più grande evento internazionale dedicato al mondo della danza e organizzato da Pitti Immagine\, torna alla Fortezza da Basso di Firenze dal 20 al 22 febbraio. Lo slogan 2026 di Danza in Fiera è ‘Believe. Dance to become’\, un invito a credere in sé stessi e a realizzare i propri sogni. Al piano terra del padiglione centrale è possibile scoprire 80 brand di abbigliamento\, accessori e attrezzature. Nell’area Academy & ShowBiz si può entrare in contatto diretto con i direttori artistici delle più importanti Accademie di ballo. \nSono previsti oltre 270 appuntamenti tra spettacoli\, rassegne monotematiche\, incontri\, laboratori\, con 13 aule e 3 palchi. La novità di questa edizione è ‘K-Code. K-Pop. Dance. Believe’\, una seria di eventi\, workshop\, iniziative e attivazioni dedicate alla danza e cultura K-Pop. Altra novità è un’intera area Healty e Wellness dedicata ad attività concentrate sul corpo e sul potenziamento delle prestazioni. \nOltre 30 sono i ‘guest teacher’ di fama internazionale. Presenti anche ballerini scoperti dal talent ‘Amici’ o protagonisti di ‘Ballando con le stelle’: da Umberto Gaudino ad Andrea Muller\, da Samuel Peron a Roly Maden. Tornano poi gli eventi più attesi sui palchi: le storiche rassegne coreografiche ‘Dance Parade’ e ‘Junior Parade’ e le più prestigiose competizioni. Sabato 21 si tiene la prima assoluta dello spettacolo ‘The Sound of Shoes’\, prodotto e diretto da Graziella Di Marco. Completano il programma oltre 50 tra seminari di aggiornamento\, master didattici e presentazioni. Orario: venerdì\, sabato e domenica dalle 9 alle 19. \n\nInfo: 055.3693236  –  danzainfiera.pittimmagine.com \n 
URL:https://www.eventiintoscana.it/evento/danza-in-fiera-firenze
CATEGORIES:Fiere e Mercatini,Firenze
ATTACH;FMTTYPE=image/jpeg:https://www.eventiintoscana.it/wp-content/uploads/2026/01/danza-in-fiera-2026.jpg
END:VEVENT
END:VCALENDAR