BEGIN:VCALENDAR
VERSION:2.0
PRODID:-//Eventi in Toscana By Toscana Tascabile - ECPv6.15.12.2//NONSGML v1.0//EN
CALSCALE:GREGORIAN
METHOD:PUBLISH
X-ORIGINAL-URL:https://www.eventiintoscana.it
X-WR-CALDESC:Eventi per Eventi in Toscana By Toscana Tascabile
REFRESH-INTERVAL;VALUE=DURATION:PT1H
X-Robots-Tag:noindex
X-PUBLISHED-TTL:PT1H
BEGIN:VTIMEZONE
TZID:Europe/Rome
BEGIN:DAYLIGHT
TZOFFSETFROM:+0100
TZOFFSETTO:+0200
TZNAME:CEST
DTSTART:20240331T010000
END:DAYLIGHT
BEGIN:STANDARD
TZOFFSETFROM:+0200
TZOFFSETTO:+0100
TZNAME:CET
DTSTART:20241027T010000
END:STANDARD
BEGIN:DAYLIGHT
TZOFFSETFROM:+0100
TZOFFSETTO:+0200
TZNAME:CEST
DTSTART:20250330T010000
END:DAYLIGHT
BEGIN:STANDARD
TZOFFSETFROM:+0200
TZOFFSETTO:+0100
TZNAME:CET
DTSTART:20251026T010000
END:STANDARD
BEGIN:DAYLIGHT
TZOFFSETFROM:+0100
TZOFFSETTO:+0200
TZNAME:CEST
DTSTART:20260329T010000
END:DAYLIGHT
BEGIN:STANDARD
TZOFFSETFROM:+0200
TZOFFSETTO:+0100
TZNAME:CET
DTSTART:20261025T010000
END:STANDARD
END:VTIMEZONE
BEGIN:VEVENT
DTSTART;TZID=Europe/Rome:20250703T180000
DTEND;TZID=Europe/Rome:20250828T233000
DTSTAMP:20260425T160305
CREATED:20250629T011750Z
LAST-MODIFIED:20250629T011750Z
UID:318610-1751565600-1756423800@www.eventiintoscana.it
SUMMARY:Degustiamo Chianni\, Chianni (Pisa)
DESCRIPTION:Protagonista nel calendario degli eventi dell’estate di Chianni\, anche quest’anno torna ‘Degustiamo Chianni’\, l’appuntamento con i mercatini del giovedì sera. A partire dal 3 luglio e fino al 28 agosto\, nella cornice del paese illuminato a festa\, sarà possibile trovare prodotti artigianali ed enogastronomici\, bancarelle vintage e appuntamenti musicali. I giovedì di Chianni (3\, 10\, 17\, 24 e 31 luglio e 7\, 14\, 21 e 28 agosto) sono in programma in piazza Bartoli a partire dalle ore 20 e fino a mezzanotte. \n\nInfo: 0587.647479 – www.prolocochianni.it
URL:https://www.eventiintoscana.it/evento/degustiamo-chianni-chianni-pisa
CATEGORIES:Fiere e Mercatini,Pisa
ATTACH;FMTTYPE=image/jpeg:https://www.eventiintoscana.it/wp-content/uploads/2025/06/Chianni.jpg
END:VEVENT
BEGIN:VEVENT
DTSTART;TZID=Europe/Rome:20250705T090000
DTEND;TZID=Europe/Rome:20250831T200000
DTSTAMP:20260425T160305
CREATED:20250629T012701Z
LAST-MODIFIED:20250629T012701Z
UID:318613-1751706000-1756670400@www.eventiintoscana.it
SUMMARY:Mercatini\, Montagna Pistoiese
DESCRIPTION:Tornano gli appuntamenti a luglio e ad agosto con i mercatini organizzati dall’associazione Il Penny: si tratta di mercatini di piccolo antiquariato\, collezionismo\, modernariato\, design rigatteria\, vintage\, artigianato e hobbistica protagonisti in varie località della Montagna Pistoiese. E in particolare i sabati di luglio (5\, 12\, 19 e 26) e di agosto (2\, 9\, 16 e 30) nel centro storico di Maresca\, le domeniche 6 luglio (presso il piazzale panoramico)\, 27 luglio\, 3 e 17 agosto (in località Le Regine) all’Abetone\, il 13 e 27 luglio e il 10 e 17 agosto nel centro storico di Gavinana e il 20 luglio\, 3\, 15\, 24 e 31 agosto presso i giardini pubblici di San Marcello Pistoiese. Inoltre sabato 16 e domenica 17 agosto appuntamento al piazzale panoramico dell’Abetone con la Fiera dell’artigianato e dei prodotti montani\, con protagonisti l’artigianato di qualità e i prodotti enogastronomici e tipici. \n\nInfo: 339.5423347 – 353.4248362
URL:https://www.eventiintoscana.it/evento/mercatini-montagna-pistoiese-2
CATEGORIES:Fiere e Mercatini,Pistoia
ATTACH;FMTTYPE=image/jpeg:https://www.eventiintoscana.it/wp-content/uploads/2025/06/San-Marcello-Pistoiese.jpg
END:VEVENT
BEGIN:VEVENT
DTSTART;TZID=Europe/Rome:20250730T090000
DTEND;TZID=Europe/Rome:20250828T190000
DTSTAMP:20260425T160305
CREATED:20250728T140756Z
LAST-MODIFIED:20250728T140756Z
UID:319526-1753866000-1756407600@www.eventiintoscana.it
SUMMARY:Mostra dell’Agricoltura e del Territorio\, Lucca
DESCRIPTION:Da sabato 30 agosto a domenica 28 settembre\, nel loggiato di Palazzo Pretorio in piazza San Michele\, torna la storica Mostra dell’Agricoltura e del Territorio Lucchese\, organizzata da Strada del Vino e dell’Olio di Lucca\, Montecarlo e Versilia in collaborazione con la Camera di Commercio. Per un intero mese\, produttori locali presenteranno vini DOC/IGT delle colline lucchesi e di Montecarlo\, olio extravergine\, miele\, farro e farina di castagne\, accompagnati da degustazioni curate da sommelier FISAR e AIS. Tra le novità\, un cocktail dedicato creato dal barman Mauro Picchi. Orari: tutti i giorni dalle 9 alle 19; accesso gratuito. \n\nInfo: 338.2211779 – www.stradavinoeoliolucca.it
URL:https://www.eventiintoscana.it/evento/mostra-dellagricoltura-e-del-territorio-lucca
CATEGORIES:Fiere e Mercatini,Lucca
ATTACH;FMTTYPE=image/jpeg:https://www.eventiintoscana.it/wp-content/uploads/2025/07/Bicchieri-di-vino.jpg
END:VEVENT
BEGIN:VEVENT
DTSTART;TZID=Europe/Rome:20250808T190000
DTEND;TZID=Europe/Rome:20250808T233000
DTSTAMP:20260425T160305
CREATED:20250707T110143Z
LAST-MODIFIED:20250707T110143Z
UID:319014-1754679600-1754695800@www.eventiintoscana.it
SUMMARY:Festival Arti di strada "A Luna Bona"\, Montieri (Grosseto)
DESCRIPTION:L’8 agosto\, a partire dalle ore 20\, il borgo toscano di Montieri si trasformerà in un palcoscenico a cielo aperto grazie ad “A Luna Bona”\, il festival di Arti di Strada che promette magia\, emozioni e divertimento per tutte le età. \nL’ingresso è libero e l’atmosfera sarà animata da spettacoli di danza\, magia\, musica dal vivo e tante altre sorprese.\nCi saranno stand di street food per gustare sapori locali e internazionali mentre si passeggia tra artisti e performance. \nL’evento è curato dall’Associazione La Meria Montieri\, con il patrocinio del Comune di Montieri (GR)\, e rappresenta un’occasione unica per vivere una serata estiva diversa\, tra arte\, cultura e convivialità sotto le stelle. \n  \n\nInfo: 342 9554557 – https://www.facebook.com/lameriamontieri?locale=it_IT
URL:https://www.eventiintoscana.it/evento/festival-arti-di-strada-a-luna-bona-montieri-grosseto
CATEGORIES:Fiere e Mercatini,Grosseto
ATTACH;FMTTYPE=image/jpeg:https://www.eventiintoscana.it/wp-content/uploads/2025/07/a-luna-bona-2025.jpg
END:VEVENT
BEGIN:VEVENT
DTSTART;TZID=Europe/Rome:20250822T190000
DTEND;TZID=Europe/Rome:20250824T233000
DTSTAMP:20260425T160305
CREATED:20250822T090007Z
LAST-MODIFIED:20250819T235640Z
UID:319726-1755889200-1756078200@www.eventiintoscana.it
SUMMARY:Eventi quarto fine settimana di Agosto
DESCRIPTION:Nel quarto fine settimana di Agosto proseguono gli eventi estivi in Toscana tra festival musicali\, mostre mercato\, concorsi cinematografici e sagre locali. \nIn Garfagnana si conclude il 23 agosto l’edizione 2025 di ‘Mont’Alfonso sotto le stelle’\, il festival che ospita grandi eventi e artisti di prestigio internazionale in antiche fortezze e scenari naturali del territorio: gran finale con la Boléro e Carmina Burana eseguiti dall’Ensemble Symphony Orchestra. \nInizia invece in provincia di Pistoia\, domenica 24 agosto alla Rocca di Castruccio di Serravalle Pistoiese Jazz Festival. Si tratta della 24a edizione della rassegna con i grandi nomi internazionali del jazz. Si parte con la BargaJazz Orchestra del M° Mario Raja\, special guest Eddie Henderson\, il leggendario trombettista di Herbie Hancock. \nSpostiamoci ora in provincia di Arezzo. Dal 23 agosto Cortona ospita la 63ª edizione di Cortonantiquaria\, la mostra mercato nazionale d’antiquariato protagonista al Centro Convegni Sant’Agostino. Qui dialogano arte\, storia e preziosi manufatti di epoche e provenienze diverse. Anche quest’anno ci saranno il Premio Cortonantiquaria e tanti altri appuntamenti. Tra questi la mostra ‘Cantare il Medioevo. \nSulla costa livornese a Rosignano Marittimo si conclude il 22 agosto Armunia Castiglioncello Festival\, la rassegna estiva in programma al Castello Pasquini\, con il concerto di Silent Bob & Sick Budd. \nNella Valdichiana senese\, con 184 cortometraggi in concorso e oltre 40 ore di girato\, il 22 e 23 agosto è in programma Corto Fiction Chianciano Terme\, nella storica Sala Fellini del Parco Acquasanta. Tra produzioni professionali e opere amatoriali\, i corti in gara dureranno da 1 a 15 minuti\, offrendo uno sguardo variegato e originale sul cinema breve. \nE ora un’appuntamento con il buon cibo. Da venerdì 22 agosto al Parco Danielli di Buti\, in provincia di Pisa\, si svolgerà la Sagra del Cinghiale. Sarà un’occasione per gustare specialità locali ed immergersi nell’atmosfera vivace e accogliente del paese\, con musica\, balli e attività per tutti. \n 
URL:https://www.eventiintoscana.it/evento/eventi-quarto-fine-settimana-di-agosto
CATEGORIES:arezzo,Fiere e Mercatini,Incontri,Lucca,Musica e festival,Pisa,Pistoia,Rassegne e Sagre,Siena
ATTACH;FMTTYPE=image/png:https://www.eventiintoscana.it/wp-content/uploads/2025/07/Eventi-Agosto.png
END:VEVENT
BEGIN:VEVENT
DTSTART;TZID=Europe/Rome:20250823T100000
DTEND;TZID=Europe/Rome:20250907T233000
DTSTAMP:20260425T160305
CREATED:20250726T170104Z
LAST-MODIFIED:20250726T170104Z
UID:319400-1755943200-1757287800@www.eventiintoscana.it
SUMMARY:Cortonantiquaria\, Cortona (Arezzo)
DESCRIPTION:Dal 23 agosto al 7 settembre Cortona ospita la 63ª edizione di Cortonantiquaria\, la mostra mercato nazionale d’antiquariato protagonista al Centro Convegni Sant’Agostino: qui dialogano arte\, storia e preziosi manufatti di epoche e provenienze diverse. Anche quest’anno ci saranno il Premio Cortonantiquaria e tanti altri appuntamenti. Tra questi la mostra ‘Cantare il Medioevo. La lauda a Cortona tra devozione e identità civica’\, in programma fino al 5 ottobre al MAEC di Cortona\, e in chiusura di Cortonantiquaria (6 settembre\, ore 21.30) il concerto di Fiorella Mannoia ‘Fiorella Sinfonica – live con orchestra’ in piazza Signorelli. \n\nInfo: 0575.630158 – www.cortonantiquaria.it
URL:https://www.eventiintoscana.it/evento/cortonantiquaria-cortona-arezzo-2
CATEGORIES:arezzo,Fiere e Mercatini
ATTACH;FMTTYPE=image/jpeg:https://www.eventiintoscana.it/wp-content/uploads/2025/07/cortonantiquaria25.jpg
END:VEVENT
BEGIN:VEVENT
DTSTART;TZID=Europe/Rome:20250829T190000
DTEND;TZID=Europe/Rome:20250831T170000
DTSTAMP:20260425T160305
CREATED:20250829T090001Z
LAST-MODIFIED:20250819T235506Z
UID:319732-1756494000-1756659600@www.eventiintoscana.it
SUMMARY:Eventi ultimo fine settimana di Agosto
DESCRIPTION:L’ultimo fine settimana di Agosto presenta un programma di eventi che si alterna tra rievocazioni storiche\, sagre\, degustazioni\, concerti\, mostre mercato e feste locali. \nDomenica 31 agosto è in programma a Montepulciano il tradizionale Bravìo delle botti\, la rievocazione storica di una sfida tra le otto contrade cittadine. Botti di circa 80 kg ciascuna vengono spinte da due atleti\, detti ‘spingitori’\, per contrada lungo un percorso in salita di circa 1800 metri che si snoda tra le vie del centro storico. La gara è preceduta dalla sfilata del corteo storico composto da oltre 300 figuranti. \nSpostiamoci nel Casentino. Sabato 30 e domenica 31 agosto torna la Festa del Fungo Porcino\, nella frazione di Cetica\, a Castel San Niccolò.  La sagra inizia il sabato alle ore 16 col Mercato dell’Arte e dei Mestieri con la vendita dei prodotti tipici. Dalle ore 19.30 si cena con piatti a base di porcini e prodotti del sottobosco. A seguire musiche e balli per tutti. Il giorno seguente si inizia a pranzo (dalle ore 12.30) alle 16.00 la tradizionale Gara di dolci e si chiude con la cena. \nA Lucca\, da sabato 30 agosto a domenica 28 settembre\, nel loggiato di Palazzo Pretorio in piazza San Michele\, torna la storica Mostra dell’Agricoltura e del Territorio Lucchese. Per un intero mese\, produttori locali presenteranno vini DOC/IGT delle colline lucchesi e di Montecarlo\, olio extravergine\, miele\, farro e farina di castagne. Tra le novità\, un cocktail dedicato creato dal barman Mauro Picchi. \nFino al 31 agosto\, l’Isola d’Elba ospita la seconda edizione del GEM Island Festival (‘Gastronomy\, Enology & Mixology’). Si tratta di un evento diffuso che anima l’intera isola con appuntamenti dedicati a buon cibo\, cocktail artigianali\, arte e musica. Il festival coinvolge bar\, ristoranti\, enoteche e terrazze panoramiche\, trasformando le località più suggestive in luoghi di incontro e sperimentazione sensoriale. \nInizia questo fine settimana il Beat Festival nel fantastico Parco di Serravalle a Empoli con un mix di contenuti: musica\, food\, showcases\, handmade market\, dj set. L’area Music è divisa in “Main Stage”\, coi concerti a pagamento\, “Beat Arena” con dj set e band emergenti e infine “Dj Stage”\, con musica dalla consolle. Venerdì 29 agosto arriva Willie Peyote\, col suo stile inconfondibile tra rap/rock e cantautorato e la sua ironia tagliente e pungente critica sociale. \nIn occasione della conclusione Festa della Musica a Le Fornaci in provincia di Pistoia sabato 30 agosto si svolgerà dalle 21:30 l’annuale “Gran Ballo d’Estate” una serata danzante con intrattenimento musicale dal vivo.
URL:https://www.eventiintoscana.it/evento/eventi-ultimo-fine-settimana-di-agosto
CATEGORIES:arezzo,Feste e Folklore,Fiere e Mercatini,Firenze,Livorno,Lucca,Musica e festival,Pistoia,Rassegne e Sagre,Siena
ATTACH;FMTTYPE=image/png:https://www.eventiintoscana.it/wp-content/uploads/2025/07/Eventi-Agosto.png
END:VEVENT
END:VCALENDAR