BEGIN:VCALENDAR
VERSION:2.0
PRODID:-//Eventi in Toscana By Toscana Tascabile - ECPv6.15.12.2//NONSGML v1.0//EN
CALSCALE:GREGORIAN
METHOD:PUBLISH
X-ORIGINAL-URL:https://www.eventiintoscana.it
X-WR-CALDESC:Eventi per Eventi in Toscana By Toscana Tascabile
REFRESH-INTERVAL;VALUE=DURATION:PT1H
X-Robots-Tag:noindex
X-PUBLISHED-TTL:PT1H
BEGIN:VTIMEZONE
TZID:Europe/Rome
BEGIN:DAYLIGHT
TZOFFSETFROM:+0100
TZOFFSETTO:+0200
TZNAME:CEST
DTSTART:20240331T010000
END:DAYLIGHT
BEGIN:STANDARD
TZOFFSETFROM:+0200
TZOFFSETTO:+0100
TZNAME:CET
DTSTART:20241027T010000
END:STANDARD
BEGIN:DAYLIGHT
TZOFFSETFROM:+0100
TZOFFSETTO:+0200
TZNAME:CEST
DTSTART:20250330T010000
END:DAYLIGHT
BEGIN:STANDARD
TZOFFSETFROM:+0200
TZOFFSETTO:+0100
TZNAME:CET
DTSTART:20251026T010000
END:STANDARD
BEGIN:DAYLIGHT
TZOFFSETFROM:+0100
TZOFFSETTO:+0200
TZNAME:CEST
DTSTART:20260329T010000
END:DAYLIGHT
BEGIN:STANDARD
TZOFFSETFROM:+0200
TZOFFSETTO:+0100
TZNAME:CET
DTSTART:20261025T010000
END:STANDARD
BEGIN:DAYLIGHT
TZOFFSETFROM:+0100
TZOFFSETTO:+0200
TZNAME:CEST
DTSTART:20270328T010000
END:DAYLIGHT
BEGIN:STANDARD
TZOFFSETFROM:+0200
TZOFFSETTO:+0100
TZNAME:CET
DTSTART:20271031T010000
END:STANDARD
END:VTIMEZONE
BEGIN:VEVENT
DTSTART;TZID=Europe/Rome:20250106T000000
DTEND;TZID=Europe/Rome:20261231T235900
DTSTAMP:20260420T160738
CREATED:20221026T141420Z
LAST-MODIFIED:20260325T173500Z
UID:302934-1736121600-1798761540@www.eventiintoscana.it
SUMMARY:Le Mostre d'arte a Massa Carrara e provincia
DESCRIPTION:Fino al 30 agosto\nMikayel Ohanjanyan. Legami: Ties that Bind\nIl mudaC | museo delle arti di Carrara accoglie l’arte di Mikayel Ohanjanyan (1976\, Yerevan\, Armenia) ospitando una personale a cura di Christopher Atamian e Tamar Hovsepian di Atamian Hovsepian Curatorial Practice\, piattaforma curatoriale con base a New York. Attraverso cinque sculture in marmo concepite come un’unica monumentale installazione\, la mostra si concentra sugli elementi chiave della ricerca più recente dell’artista: i legami intesi come connessione\, memoria storica e resilienza\, rappresentati da lavori che parlano di identità\, tempo e relazioni umane. Il corpus di opere esposto è stato pensato e realizzato appositamente per Carrara\, città che ospita il nuovo studio dell’artista ed è gemellata con Yerevan. Un’unica installazione dal forte impatto spaziale (‘Legami: Ties that Bind’) è composta da cinque sculture in marmo statuario bianco di diverse dimensioni\, con elementi più monumentali (fino a 121×210×90 cm) e altri più raccolti (53×68×40 cm). È costituita da due blocchi informi\, tenuti insieme da cavi in acciaio inox che incidono la pietra e che generano una evidente tensione fisica e\, al tempo stesso\, alludono a un’idea di unità e interdipendenza: l’atto del legarle insieme suggerisce un tentativo di recuperare una memoria collettiva perduta e di riflettere sulle strutture invisibili che tengono insieme ogni cosa. \nOrario: dal martedì alla domenica 9.30-12.30 e 15-18\, chiuso lunedì. Dal 1° giugno martedì\, sabato\, domenica 17-20\, mercoledì e giovedì 9.30-12\, venerdì 18-22. \nmudaC ǀ museo delle arti Carrara – Via Canal del Rio\, 1 – Carrara \nInfo: 0585.779681 – www.mudac.museodellearticarrara.it
URL:https://www.eventiintoscana.it/evento/mostre-a-massa-carrara-e-provincia
CATEGORIES:Massa e Carrara,Mostra d'Arte
ATTACH;FMTTYPE=image/jpeg:https://www.eventiintoscana.it/wp-content/uploads/2022/10/MASSA-CARRARA.jpg
END:VEVENT
BEGIN:VEVENT
DTSTART;TZID=Europe/Rome:20251024T210000
DTEND;TZID=Europe/Rome:20260422T233000
DTSTAMP:20260420T160738
CREATED:20251025T105354Z
LAST-MODIFIED:20260326T120836Z
UID:320894-1761339600-1776900600@www.eventiintoscana.it
SUMMARY:Teatro Guglielmi\, Massa
DESCRIPTION:Il Teatro Guglielmi si avvia verso la chiusura della stagione con gli ultimi appuntamenti. Fino al 2 aprile Luca Marinelli porta in scena ‘La cosmicomica vita di Q’\, spettacolo ispirato a “Le cosmicomiche” di Italo Calvino\, tra scienza e poesia. Il 7 e 8 aprile Giovanni Scifoni presenta il monologo ‘FRA’. San Francesco\, la superstar del Medioevo’. Martedì 21 e mercoledì 22 chiude Vanessa Scalera protagonista de ‘La sorella migliore’\, intenso e appassionante dramma familiare tra amore\, senso di colpa e rimorso\, di Filippo Gili per la regia di Francesco Frangipane. \n\nInfo: 0585.41678 – www.teatroguglielmi.it
URL:https://www.eventiintoscana.it/evento/teatro-guglielmi-massa-3
CATEGORIES:Massa e Carrara,Teatro
ATTACH;FMTTYPE=image/jpeg:https://www.eventiintoscana.it/wp-content/uploads/2023/11/teatro-guglielmi.jpg
END:VEVENT
BEGIN:VEVENT
DTSTART;VALUE=DATE:20251102
DTEND;VALUE=DATE:20251103
DTSTAMP:20260420T160738
CREATED:20251029T150345Z
LAST-MODIFIED:20251029T150345Z
UID:321026-1762041600-1762127999@www.eventiintoscana.it
SUMMARY:Museo Guadagnucci\, Massa Carrara
DESCRIPTION:Proseguono\, ogni prima domenica del mese\, nell’orario di apertura\, le visite guidate gratuite al Museo Gigi Guadagnucci di Massa. A Villa Rinchiostra (via dell’Acqua\, 175)\, sede del museo\, sono ospitate oltre quaranta sculture\, eseguite tra il 1957 e il 2002\, che documentano l’intero percorso artistico di uno degli ultimi maestri del marmo. Nato nel 1915 a Castagnetola\, frazione di Massa\, cominciò a lavorare il marmo fin da ragazzo\, seguendo la trazione della sua famiglia\, riparato in Francia nel 1936 per la sua opposizione al fascismo\, tornerà in Italia per breve tempo per poi trasferirsi stabilmente a Parigi per un ventennio\, ricevendo nel 1983 da Jack Lang la nomina a Chevalier de l’Ordre des Arts et des Lettres. Il ritorno a Massa vede nel 1986 una sua grande grande scultura installata nel Palazzo Comunale e poi un bassorilievo di quasi cinque metri commissionatogli per la Sala della Resistenza nel Palazzo Ducale. Fu proprio il Maestro a desiderare di lasciare un’eredità a Massa\, dove morì nel 2013 nella sua casa atelier di Bergiola. E sempre il Maestro scelse il il piano seminterrato\, che conserva la struttura originaria con volte a crociera. Molte opere sono ospitate anche a pian terreno. Il museo è aperto dal martedì al venerdì in orario 9-13\, il sabato e la domenica 15-19. \n_____________________________________________________________________________________________________________________ \nInfo e pren.: 0585.490204 – museoguadagnucci@comune.massa.ms.it
URL:https://www.eventiintoscana.it/evento/museo-guadagnucci-massa-carrara
CATEGORIES:Incontri,Massa e Carrara
ATTACH;FMTTYPE=image/png:https://www.eventiintoscana.it/wp-content/uploads/2025/10/Screenshot-2025-10-29-alle-16.02.31.png
END:VEVENT
END:VCALENDAR