BEGIN:VCALENDAR
VERSION:2.0
PRODID:-//Eventi in Toscana By Toscana Tascabile - ECPv6.15.12.2//NONSGML v1.0//EN
CALSCALE:GREGORIAN
METHOD:PUBLISH
X-WR-CALNAME:Eventi in Toscana By Toscana Tascabile
X-ORIGINAL-URL:https://www.eventiintoscana.it
X-WR-CALDESC:Eventi per Eventi in Toscana By Toscana Tascabile
REFRESH-INTERVAL;VALUE=DURATION:PT1H
X-Robots-Tag:noindex
X-PUBLISHED-TTL:PT1H
BEGIN:VTIMEZONE
TZID:Europe/Rome
BEGIN:DAYLIGHT
TZOFFSETFROM:+0100
TZOFFSETTO:+0200
TZNAME:CEST
DTSTART:20240331T010000
END:DAYLIGHT
BEGIN:STANDARD
TZOFFSETFROM:+0200
TZOFFSETTO:+0100
TZNAME:CET
DTSTART:20241027T010000
END:STANDARD
BEGIN:DAYLIGHT
TZOFFSETFROM:+0100
TZOFFSETTO:+0200
TZNAME:CEST
DTSTART:20250330T010000
END:DAYLIGHT
BEGIN:STANDARD
TZOFFSETFROM:+0200
TZOFFSETTO:+0100
TZNAME:CET
DTSTART:20251026T010000
END:STANDARD
BEGIN:DAYLIGHT
TZOFFSETFROM:+0100
TZOFFSETTO:+0200
TZNAME:CEST
DTSTART:20260329T010000
END:DAYLIGHT
BEGIN:STANDARD
TZOFFSETFROM:+0200
TZOFFSETTO:+0100
TZNAME:CET
DTSTART:20261025T010000
END:STANDARD
BEGIN:DAYLIGHT
TZOFFSETFROM:+0100
TZOFFSETTO:+0200
TZNAME:CEST
DTSTART:20270328T010000
END:DAYLIGHT
BEGIN:STANDARD
TZOFFSETFROM:+0200
TZOFFSETTO:+0100
TZNAME:CET
DTSTART:20271031T010000
END:STANDARD
END:VTIMEZONE
BEGIN:VEVENT
DTSTART;TZID=Europe/Rome:20250106T000000
DTEND;TZID=Europe/Rome:20261231T235900
DTSTAMP:20260421T023929
CREATED:20221026T141420Z
LAST-MODIFIED:20260325T173500Z
UID:302934-1736121600-1798761540@www.eventiintoscana.it
SUMMARY:Le Mostre d'arte a Massa Carrara e provincia
DESCRIPTION:Fino al 30 agosto\nMikayel Ohanjanyan. Legami: Ties that Bind\nIl mudaC | museo delle arti di Carrara accoglie l’arte di Mikayel Ohanjanyan (1976\, Yerevan\, Armenia) ospitando una personale a cura di Christopher Atamian e Tamar Hovsepian di Atamian Hovsepian Curatorial Practice\, piattaforma curatoriale con base a New York. Attraverso cinque sculture in marmo concepite come un’unica monumentale installazione\, la mostra si concentra sugli elementi chiave della ricerca più recente dell’artista: i legami intesi come connessione\, memoria storica e resilienza\, rappresentati da lavori che parlano di identità\, tempo e relazioni umane. Il corpus di opere esposto è stato pensato e realizzato appositamente per Carrara\, città che ospita il nuovo studio dell’artista ed è gemellata con Yerevan. Un’unica installazione dal forte impatto spaziale (‘Legami: Ties that Bind’) è composta da cinque sculture in marmo statuario bianco di diverse dimensioni\, con elementi più monumentali (fino a 121×210×90 cm) e altri più raccolti (53×68×40 cm). È costituita da due blocchi informi\, tenuti insieme da cavi in acciaio inox che incidono la pietra e che generano una evidente tensione fisica e\, al tempo stesso\, alludono a un’idea di unità e interdipendenza: l’atto del legarle insieme suggerisce un tentativo di recuperare una memoria collettiva perduta e di riflettere sulle strutture invisibili che tengono insieme ogni cosa. \nOrario: dal martedì alla domenica 9.30-12.30 e 15-18\, chiuso lunedì. Dal 1° giugno martedì\, sabato\, domenica 17-20\, mercoledì e giovedì 9.30-12\, venerdì 18-22. \nmudaC ǀ museo delle arti Carrara – Via Canal del Rio\, 1 – Carrara \nInfo: 0585.779681 – www.mudac.museodellearticarrara.it
URL:https://www.eventiintoscana.it/evento/mostre-a-massa-carrara-e-provincia
CATEGORIES:Massa e Carrara,Mostra d'Arte
ATTACH;FMTTYPE=image/jpeg:https://www.eventiintoscana.it/wp-content/uploads/2022/10/MASSA-CARRARA.jpg
END:VEVENT
BEGIN:VEVENT
DTSTART;TZID=Europe/Rome:20250628T093000
DTEND;TZID=Europe/Rome:20251026T230000
DTSTAMP:20260421T023929
CREATED:20250805T163329Z
LAST-MODIFIED:20251010T142715Z
UID:319765-1751103000-1761519600@www.eventiintoscana.it
SUMMARY:In gioco. Illusione e divertimento nell’arte italiana 1850-1950\, Carrara (Massa Carrarra)
DESCRIPTION:La Fondazione Giorgio Conti ospita a Palazzo Cucchiari una mostra dai contenuti sorprendenti che trasforma le sale in una specie di ‘parco divertimenti’. Curata da Massimo Bertozzi\, l’esposizione ci racconta come nell’Ottocento\, età del realismo e della modernità\, l’attenzione degli artisti si concentri sul gioco come un’attività umana tra le altre\, uno svago\, un passatempo gradevole\, una pausa dai ‘quotidiani affanni’ che riguarda tutti\, aristocratici e contadini\, preti e militari\, donne e bambini. Si assiste alla scoperta del ‘tempo libero’\, che spesso si trasforma in tempo socialmente utile e produttivo\, come ad esempio nello sport. In mostra circa 110 opere di un’ottantina di artisti. Gli autori sono\, fra gli altri\, Silvestro Lega (‘Le bambine che fanno le signore’\, 1872)\, Carlo Carrà (‘La carrozzella’\, 1916)\, Felice Casorati (‘Ritratto di Cesare Lionello’\, 1911)\, Capogrossi\, Campigli\, Severini\, Fausto Pirandello\, Sironi\, Primo Conti e Antonio Ligabue. Fra le sculture si segnalano il ‘Cantante a spasso’ di Medardo Rosso e la ‘Ballerina’ di Giacomo Manzù del 1938\, il ‘Nuotatore’ di Marino Marini\, il ‘Lottatore’ di Emilio Greco e il ‘Marciatore’ di Francesco Messina. Il percorso è ordinato per temi: ‘Svaghi e ricreazioni del quotidiano’\, ‘Crescere ed imparare: un gioco da ragazzi’\, ‘Intrattenimenti e spettacoli: l’invenzione del tempo libero’ e infine ‘Sfide\, competizione e destino’. \nOrario: martedì\, mercoledì\, giovedì e domenica 9.30-12.30 e 16-20\, venerdì e sabato 9.30-12.30 e 16-23; dal 16 settembre martedì\, mercoledì\, giovedì e domenica 9.30-12.30 e 15-20\, venerdì e sabato 9.30-12.30 e 15-21; sempre chiusa il lunedì. \nPalazzo Cucchiari – Via Cucchiari\, 1 – Carrara \nInfo: 0585 72355 – www.palazzocucchiari.it
URL:https://www.eventiintoscana.it/evento/in-gioco-illusione-e-divertimento-nellarte-italiana-1850-1950-carrara-massa-carrarra
CATEGORIES:Massa e Carrara,Mostre d'Arte
ATTACH;FMTTYPE=image/jpeg:https://www.eventiintoscana.it/wp-content/uploads/2025/08/mostra-in-gioco-orizzontale-16-9.jpg
END:VEVENT
BEGIN:VEVENT
DTSTART;TZID=Europe/Rome:20251002T090000
DTEND;TZID=Europe/Rome:20251026T190000
DTSTAMP:20260421T023929
CREATED:20250927T143822Z
LAST-MODIFIED:20251107T140957Z
UID:320397-1759395600-1761505200@www.eventiintoscana.it
SUMMARY:Carrara Fiere\, Marina di Carrara
DESCRIPTION:Anche quest’anno è un ottobre ricco di appuntamenti a Carrara Fiere. Si inizia col Salone dello studente\, in programma il 2 e il 3. La due giorni targata Campus è dedicata all’orientamento scolastico e si propone come una piazza d’incontro che mette in contatto gli studenti con il panorama formativo e professionale italiano e straniero\, con l’obiettivo di fornire informazioni e strumenti utili a compiere una scelta consapevole sul proprio futuro. Il 4 e il 5 è protagonista invece il mondo della tabaccheria con T2000 in tour\, il salone dei prodotti e dei servizi per la tabaccheria. Nel weekend del 10\, 11 e 12 arriva poi la nuova edizione di 4×4 Fest\, il salone internazionale off-road e outdoor. Tra le novità la nuova disposizione dei padiglioni\, ciascuno con una propria tematica principale (ci sarà anche 4×4 Café)\, poi il nuovo layout della pista interna\, gli eventi sulla pista esterna e in spiaggia con l’atteso Sand Emotion e i nuovi percorsi per i tour alle Cave di Marmo e nel centro storico di Carrara . E infine un doppio appuntamento col Festival dell’Oriente\, il salone dedicato al mondo orientale. Il 18 e 19 e poi dal 24 al 26 ottobre nei padiglioni del centro fieristico sarà possibile trovare bazar e stand d’Oriente\, gastronomia tipica e spazi dedicati alla salute e al benessere\, alla religione e alla spiritualità. In programma inoltre mostre\, show\, spettacoli folkloristici\, danze e arti marziali\, cerimonie tradizionali e molto altro. \n\nInfo: 0585.787963 – www.carrarafiere.it \n 
URL:https://www.eventiintoscana.it/evento/carrara-fiere-marina-di-carrara-massa-carrara
CATEGORIES:Fiere e Mercatini,Massa e Carrara
ATTACH;FMTTYPE=image/png:https://www.eventiintoscana.it/wp-content/uploads/2025/09/Carrara-Fiere.png
END:VEVENT
BEGIN:VEVENT
DTSTART;TZID=Europe/Rome:20251003T080000
DTEND;TZID=Europe/Rome:20251005T220000
DTSTAMP:20260421T023929
CREATED:20251003T115921Z
LAST-MODIFIED:20251003T122807Z
UID:320526-1759478400-1759701600@www.eventiintoscana.it
SUMMARY:Gli eventi del primo fine settimana di ottobre
DESCRIPTION:La castagna grande protagonista nelle sagre\, e poi rievocazioni\, fiere\, festival\, spettacoli\, mostre: è ricchissimo il primo fine settimana di ottobre. Ecco una selezione dei principali eventi del 3\, 4 e 5 ottobre. \nCastagne e marroni protagonisti in Mugello\nCon l’arrivo dell’autunno tornano gli appuntamenti con le castagne e con i marroni\, al centro di diverse sagre in Mugello. Domenica 5 ottobre (e tornerà poi anche nelle domeniche 12 e 19) al Parco Antonio Berti di San Piero a Sieve è in programma la Festa del marrone. Marrone protagonista anche a Marradi nelle domeniche 5\, 12\, 19 e 26 ottobre con la Sagra delle castagne – Mostra mercato del Marron buono. Dal 5 ottobre\, in programma poi anche nelle altre tre domeniche del mese (12\, 19 e 26)\, torna anche la Sagra del marrone e dei frutti del sottobosco di Palazzuolo sul Senio. \nCalenzano torna nel Medioevo\nCalenzano torna indietro nel tempo\, nel Medioevo. Domenica 5 ottobre\, nel borgo di Calenzano Alto\,  è in programma la quarta edizione di Calenzano 1325\,  la rievocazione storica dell’assedio al Castello di Calenzano. L’evento risale appunto al 1325 e riporta il paese indietro nel tempo\, quando le truppe del condottiero Castruccio Castracani arrivarono alle porte di Calenzano per conquistare l’antico borgo del contado fiorentino. \nVintage\, ceramica\, fiori e artigianato protagonisti in fiera\nA Palazzo Corsini\, in pieno centro storico a Firenze\, venerdì 3\, sabato 4 e domenica 5 ottobre è in programma la 12ª edizione di Florence Vintage Market\, il mercato benefico di abiti e accessori vintage organizzato da File – Fondazione italiana di leniterapia. Spostandoci in piazza Santa Croce invece\, sabato 4 e domenica 5 appuntamento con la 26ª Fiera internazionale della ceramica. Sempre restando a Firenze\, al Giardino dell’Orticultura questo fine settimana (3\, 4 e 5 ottobre) protagonisti invece i fiori con l’edizione autunnale della Mostra mercato di piante e fiori. A un passo da Firenze\, a Scandicci inizia invece la Fiera di Scandicci\, la grande fiera campionaria con proposte per la casa\, per la persona\, ma anche cibo\, auto e mezzi da agricoli. \nFestival\, musica\, spettacolo e cinema\nA Lucca prosegue fino al 5 ottobre il grande appuntamento con la 4ª edizione di Pianeta Terra Festival\, il festival diretto da Stefano Mancuso protagonista in vari luoghi della città con oltre 90 incontri e più di 100 ospiti tra scienziati\, filosofi\, economisti\, scrittori e artisti. Al centro le trasformazioni del nostro tempo\, dalle sfide ambientali alle crisi economiche e geopolitiche. \nGiovani stelle della musica classica sono protagoniste ad Arezzo. Dal 4 al 25 ottobre il Teatro Petrarca ospita la VI edizione dello Youth Music Festival\, diretto dal violinista Giovanni Andrea Zanon e dedicato alle stelle under 35 della musica classica. \nOltre 230 eventi compongono il cartellone dell’Autunno Fiorentino\, la manifestazione promossa dal Comune di Firenze che fino al 30 novembre torna ad animare le zone periferiche della città con esibizioni di teatro\, musica dal vivo e workshop dedicati alle arti performative. \nLe mostre\nAl via negli scorsi giorni: \n\nGiovanni Fattori. Una rivoluzione in pittura presso il Museo civico ‘G. Fattori’ a Livorno\nIn Visita. Giacomo Balla presso Palazzo de’ Rossi a Pistoia\nBeato Angelico a Firenze\n\nInfine restano pochi giorni per visitare le mostre In gioco. Illusione e divertimento nell’arte italiana 1850-1950 a Palazzo Cucchiari a Carrara e Marino Marini. In dialogo con l’uomo ad Arezzo.
URL:https://www.eventiintoscana.it/evento/gli-eventi-del-primo-fine-settimana-di-ottobre
CATEGORIES:arezzo,Firenze,Livorno,Lucca,Massa e Carrara,Pistoia
ATTACH;FMTTYPE=image/jpeg:https://www.eventiintoscana.it/wp-content/uploads/2025/10/Eventi-primo-fine-settimana-ottobre.jpg
END:VEVENT
BEGIN:VEVENT
DTSTART;TZID=Europe/Rome:20251003T080000
DTEND;TZID=Europe/Rome:20251031T170000
DTSTAMP:20260421T023929
CREATED:20251003T104516Z
LAST-MODIFIED:20251003T104516Z
UID:320539-1759478400-1761930000@www.eventiintoscana.it
SUMMARY:Cantine Aperte in Vendemmia\, REGIONE
DESCRIPTION:La Merenda della Tradizione è il leitmotiv di Cantine Aperte in Vendemmia di ottobre\, con eventi per vivere il momento più magico dell’anno nelle aziende vitivinicole Toscane. Il Movimento Turismo del Vino accoglie il pubblico per vivere insieme la vendemmia e i successivi passaggi per la produzione del vino\, partendo proprio dal grado di maturazione dell’uva e al momento giusto per raccoglierla. Degustazioni\, acquisto di prodotti e tante attività connesse nelle cantine che aderiscono all’iniziativa\, a partire appunto dalla merenda di una volta\, con pane vino e zucchero\, o la schiacciata con l’uva\, visite in cantina di affinamento e spumantizzazione\, pic-nic in vigna\, passeggiate tra i vigneti con merenda. Le cantine ospiti sono: Davinum- Castelfiorentino; Ambrogio e Giovanni Folonari Tenuta Di Nozzole – Greve in Chianti\, Fattoria La Leccia – Montespertoli\, Camigliano e  Casato Prime Donne – Montalcino; Cantina I Vini Di Maremma – Marina di Grosseto; Fattoria La Maliosa – Saturnia e la Cantina Badini – Castiglion Fiorentino. Tutti i dettagli sono disponibili sul sito\, la prenotazione è obbligatoria. \n_____________________________________________________________________ \nInfo: 349.7160023 – www.mtvtoscana.com
URL:https://www.eventiintoscana.it/evento/cantine-aperte-in-vendemmia-regione
CATEGORIES:arezzo,Firenze,Grosseto,Livorno,Lucca,Massa e Carrara,Pisa,Pistoia,Prato,Sagre e Folklore,Siena
ATTACH;FMTTYPE=image/jpeg:https://www.eventiintoscana.it/wp-content/uploads/2025/10/cantine-aperte-vendemmia1.jpg
END:VEVENT
BEGIN:VEVENT
DTSTART;TZID=Europe/Rome:20251005T150000
DTEND;TZID=Europe/Rome:20251005T190000
DTSTAMP:20260421T023929
CREATED:20250927T001154Z
LAST-MODIFIED:20250927T001154Z
UID:320316-1759676400-1759690800@www.eventiintoscana.it
SUMMARY:Museo Guadagnucci\, Massa (Massa Carrara)
DESCRIPTION:Proseguono\, ogni prima domenica del mese\, nell’orario di apertura\, le visite guidate gratuite al Museo Gigi Guadagnucci di Massa. A Villa Rinchiostra (via dell’Acqua\, 175)\, sede del museo\, sono ospitate oltre quaranta sculture\, eseguite tra il 1957 e il 2002\, che documentano l’intero percorso artistico di uno degli ultimi maestri del marmo. Nato nel 1915 a Castagnetola\, frazione di Massa\, cominciò a lavorare il marmo fin da ragazzo\, seguendo la trazione della sua famiglia\, riparato in Francia nel 1936 per la sua opposizione al fascismo\, tornerà in Italia per breve tempo per poi trasferirsi stabilmente a Parigi per un ventennio\, ricevendo nel 1983 da Jack Lang la nomina a Chevalier de l’Ordre des Arts et des Lettres. Il ritorno a Massa vede nel 1986 una sua grande grande scultura installata nel Palazzo Comunale e poi un bassorilievo di quasi cinque metri commissionatogli per la Sala della Resistenza nel Palazzo Ducale. Fu proprio il Maestro a desiderare di lasciare un’eredità a Massa\, dove morì nel 2013 nella sua casa atelier di Bergiola. Il museo è aperto dal martedì al venerdì in orario 9-13\, il sabato e la domenica 15-19. \n\nInfo: 0585.490204 – museoguadagnucci@comune.massa.ms.it
URL:https://www.eventiintoscana.it/evento/museo-guadagnucci-massa-massa-carrara
CATEGORIES:Incontri,Massa e Carrara
ATTACH;FMTTYPE=image/jpeg:https://www.eventiintoscana.it/wp-content/uploads/2025/09/Museo-Guadagnucci.jpg
END:VEVENT
END:VCALENDAR