BEGIN:VCALENDAR
VERSION:2.0
PRODID:-//Eventi in Toscana By Toscana Tascabile - ECPv6.15.12.2//NONSGML v1.0//EN
CALSCALE:GREGORIAN
METHOD:PUBLISH
X-ORIGINAL-URL:https://www.eventiintoscana.it
X-WR-CALDESC:Eventi per Eventi in Toscana By Toscana Tascabile
REFRESH-INTERVAL;VALUE=DURATION:PT1H
X-Robots-Tag:noindex
X-PUBLISHED-TTL:PT1H
BEGIN:VTIMEZONE
TZID:Europe/Rome
BEGIN:DAYLIGHT
TZOFFSETFROM:+0100
TZOFFSETTO:+0200
TZNAME:CEST
DTSTART:20240331T010000
END:DAYLIGHT
BEGIN:STANDARD
TZOFFSETFROM:+0200
TZOFFSETTO:+0100
TZNAME:CET
DTSTART:20241027T010000
END:STANDARD
BEGIN:DAYLIGHT
TZOFFSETFROM:+0100
TZOFFSETTO:+0200
TZNAME:CEST
DTSTART:20250330T010000
END:DAYLIGHT
BEGIN:STANDARD
TZOFFSETFROM:+0200
TZOFFSETTO:+0100
TZNAME:CET
DTSTART:20251026T010000
END:STANDARD
BEGIN:DAYLIGHT
TZOFFSETFROM:+0100
TZOFFSETTO:+0200
TZNAME:CEST
DTSTART:20260329T010000
END:DAYLIGHT
BEGIN:STANDARD
TZOFFSETFROM:+0200
TZOFFSETTO:+0100
TZNAME:CET
DTSTART:20261025T010000
END:STANDARD
BEGIN:DAYLIGHT
TZOFFSETFROM:+0100
TZOFFSETTO:+0200
TZNAME:CEST
DTSTART:20270328T010000
END:DAYLIGHT
BEGIN:STANDARD
TZOFFSETFROM:+0200
TZOFFSETTO:+0100
TZNAME:CET
DTSTART:20271031T010000
END:STANDARD
END:VTIMEZONE
BEGIN:VEVENT
DTSTART;TZID=Europe/Rome:20250106T000000
DTEND;TZID=Europe/Rome:20261231T235900
DTSTAMP:20260420T023953
CREATED:20221026T141420Z
LAST-MODIFIED:20260325T173500Z
UID:302934-1736121600-1798761540@www.eventiintoscana.it
SUMMARY:Le Mostre d'arte a Massa Carrara e provincia
DESCRIPTION:Fino al 30 agosto\nMikayel Ohanjanyan. Legami: Ties that Bind\nIl mudaC | museo delle arti di Carrara accoglie l’arte di Mikayel Ohanjanyan (1976\, Yerevan\, Armenia) ospitando una personale a cura di Christopher Atamian e Tamar Hovsepian di Atamian Hovsepian Curatorial Practice\, piattaforma curatoriale con base a New York. Attraverso cinque sculture in marmo concepite come un’unica monumentale installazione\, la mostra si concentra sugli elementi chiave della ricerca più recente dell’artista: i legami intesi come connessione\, memoria storica e resilienza\, rappresentati da lavori che parlano di identità\, tempo e relazioni umane. Il corpus di opere esposto è stato pensato e realizzato appositamente per Carrara\, città che ospita il nuovo studio dell’artista ed è gemellata con Yerevan. Un’unica installazione dal forte impatto spaziale (‘Legami: Ties that Bind’) è composta da cinque sculture in marmo statuario bianco di diverse dimensioni\, con elementi più monumentali (fino a 121×210×90 cm) e altri più raccolti (53×68×40 cm). È costituita da due blocchi informi\, tenuti insieme da cavi in acciaio inox che incidono la pietra e che generano una evidente tensione fisica e\, al tempo stesso\, alludono a un’idea di unità e interdipendenza: l’atto del legarle insieme suggerisce un tentativo di recuperare una memoria collettiva perduta e di riflettere sulle strutture invisibili che tengono insieme ogni cosa. \nOrario: dal martedì alla domenica 9.30-12.30 e 15-18\, chiuso lunedì. Dal 1° giugno martedì\, sabato\, domenica 17-20\, mercoledì e giovedì 9.30-12\, venerdì 18-22. \nmudaC ǀ museo delle arti Carrara – Via Canal del Rio\, 1 – Carrara \nInfo: 0585.779681 – www.mudac.museodellearticarrara.it
URL:https://www.eventiintoscana.it/evento/mostre-a-massa-carrara-e-provincia
CATEGORIES:Massa e Carrara,Mostra d'Arte
ATTACH;FMTTYPE=image/jpeg:https://www.eventiintoscana.it/wp-content/uploads/2022/10/MASSA-CARRARA.jpg
END:VEVENT
BEGIN:VEVENT
DTSTART;TZID=Europe/Rome:20251024T210000
DTEND;TZID=Europe/Rome:20260422T233000
DTSTAMP:20260420T023953
CREATED:20251025T105354Z
LAST-MODIFIED:20260326T120836Z
UID:320894-1761339600-1776900600@www.eventiintoscana.it
SUMMARY:Teatro Guglielmi\, Massa
DESCRIPTION:Il Teatro Guglielmi si avvia verso la chiusura della stagione con gli ultimi appuntamenti. Fino al 2 aprile Luca Marinelli porta in scena ‘La cosmicomica vita di Q’\, spettacolo ispirato a “Le cosmicomiche” di Italo Calvino\, tra scienza e poesia. Il 7 e 8 aprile Giovanni Scifoni presenta il monologo ‘FRA’. San Francesco\, la superstar del Medioevo’. Martedì 21 e mercoledì 22 chiude Vanessa Scalera protagonista de ‘La sorella migliore’\, intenso e appassionante dramma familiare tra amore\, senso di colpa e rimorso\, di Filippo Gili per la regia di Francesco Frangipane. \n\nInfo: 0585.41678 – www.teatroguglielmi.it
URL:https://www.eventiintoscana.it/evento/teatro-guglielmi-massa-3
CATEGORIES:Massa e Carrara,Teatro
ATTACH;FMTTYPE=image/jpeg:https://www.eventiintoscana.it/wp-content/uploads/2023/11/teatro-guglielmi.jpg
END:VEVENT
BEGIN:VEVENT
DTSTART;VALUE=DATE:20251102
DTEND;VALUE=DATE:20251103
DTSTAMP:20260420T023953
CREATED:20251029T150345Z
LAST-MODIFIED:20251029T150345Z
UID:321026-1762041600-1762127999@www.eventiintoscana.it
SUMMARY:Museo Guadagnucci\, Massa Carrara
DESCRIPTION:Proseguono\, ogni prima domenica del mese\, nell’orario di apertura\, le visite guidate gratuite al Museo Gigi Guadagnucci di Massa. A Villa Rinchiostra (via dell’Acqua\, 175)\, sede del museo\, sono ospitate oltre quaranta sculture\, eseguite tra il 1957 e il 2002\, che documentano l’intero percorso artistico di uno degli ultimi maestri del marmo. Nato nel 1915 a Castagnetola\, frazione di Massa\, cominciò a lavorare il marmo fin da ragazzo\, seguendo la trazione della sua famiglia\, riparato in Francia nel 1936 per la sua opposizione al fascismo\, tornerà in Italia per breve tempo per poi trasferirsi stabilmente a Parigi per un ventennio\, ricevendo nel 1983 da Jack Lang la nomina a Chevalier de l’Ordre des Arts et des Lettres. Il ritorno a Massa vede nel 1986 una sua grande grande scultura installata nel Palazzo Comunale e poi un bassorilievo di quasi cinque metri commissionatogli per la Sala della Resistenza nel Palazzo Ducale. Fu proprio il Maestro a desiderare di lasciare un’eredità a Massa\, dove morì nel 2013 nella sua casa atelier di Bergiola. E sempre il Maestro scelse il il piano seminterrato\, che conserva la struttura originaria con volte a crociera. Molte opere sono ospitate anche a pian terreno. Il museo è aperto dal martedì al venerdì in orario 9-13\, il sabato e la domenica 15-19. \n_____________________________________________________________________________________________________________________ \nInfo e pren.: 0585.490204 – museoguadagnucci@comune.massa.ms.it
URL:https://www.eventiintoscana.it/evento/museo-guadagnucci-massa-carrara
CATEGORIES:Incontri,Massa e Carrara
ATTACH;FMTTYPE=image/png:https://www.eventiintoscana.it/wp-content/uploads/2025/10/Screenshot-2025-10-29-alle-16.02.31.png
END:VEVENT
BEGIN:VEVENT
DTSTART;TZID=Europe/Rome:20251106T210000
DTEND;TZID=Europe/Rome:20260319T233000
DTSTAMP:20260420T023953
CREATED:20251025T105840Z
LAST-MODIFIED:20260220T144506Z
UID:320896-1762462800-1773963000@www.eventiintoscana.it
SUMMARY:Teatro degli Animosi\, Carrara
DESCRIPTION:Al Teatro degli Animosi di Carrara giovedì 26 e venerdì 27 febbraio c’è invece Silvio Orlando con ‘Il berretto a sonagli’ di Luigi Pirandello\, tra grottesco\, verità e follia. Il 4 marzo al Teatro degli Animosi va in scena ‘Arlecchino muto per spavento’ di Stivalaccio Teatro\, ispirato al canovaccio di Luigi Riccoboni\, con la regia di Marco Zoppello: si tratta di un classico della tradizione rivisitato in chiave innovativa. Chiusura di stagione il 18 e 19 marzo con Alessandro Bergonzoni in ‘Arrivano i Dunque’\, tra comicità visionaria e presente da poter reinventare fino a trovare nuove percezioni e altri significati. \n\nInfo: 0585.641317 – teatrodeglianimosi@comune.carrara.ms.it
URL:https://www.eventiintoscana.it/evento/teatro-degli-animosi-carrara-4
CATEGORIES:Massa e Carrara,Teatro
ATTACH;FMTTYPE=image/jpeg:https://www.eventiintoscana.it/wp-content/uploads/2025/10/Teatro-degli-animosi-carrara.jpg
END:VEVENT
BEGIN:VEVENT
DTSTART;VALUE=DATE:20251108
DTEND;VALUE=DATE:20251109
DTSTAMP:20260420T023953
CREATED:20251029T150612Z
LAST-MODIFIED:20251029T150612Z
UID:321030-1762560000-1762646399@www.eventiintoscana.it
SUMMARY:Il borgo dei bambini\, Massa Carrara
DESCRIPTION:Si conclude con l’ultimo appuntamento il ciclo ‘Il tempo che hai perduto per la tua rosa… ha reso la tua rosa così importante’\, una serie di incontri per neo-genitori con bambini della fascia d’età 0-3 proposto dall’associazione Il borgo dei bambini. Sabato 8 novembre\, sempre alle ore 9.30\, il tema riguarda ‘L’esperienza al nido d’infanzia’. Appuntamento a Il borgo dei bambini a Massa (Piazza San Martino\, 1). Incontri gratuiti\, consigliata la prenotazione. \n__________________________________________________________________________________________________- \nInfo e pren.: 371.4396208 – info@ilborgodeibambini.it
URL:https://www.eventiintoscana.it/evento/il-borgo-dei-bambini-massa-carrara-2
CATEGORIES:Incontri,Massa e Carrara
ATTACH;FMTTYPE=image/png:https://www.eventiintoscana.it/wp-content/uploads/2025/10/Screenshot-2025-10-29-alle-16.05.08.png
END:VEVENT
BEGIN:VEVENT
DTSTART;VALUE=DATE:20251115
DTEND;VALUE=DATE:20251116
DTSTAMP:20260420T023953
CREATED:20251030T085050Z
LAST-MODIFIED:20251030T085315Z
UID:321172-1763164800-1763251199@www.eventiintoscana.it
SUMMARY:Alla scoperta del Teatro Guglielmi\, Massa Carrara
DESCRIPTION:Con la stagione teatrale riprendono anche le visite guidate allo storico Teatro Guglielmi costruito dall’architetto Vincenzo Micheli di Firenze\, che si appresta a festeggiare un traguardo importante: il 25 aprile 2026 ricorreranno infatti i 140 anni dalla prima rappresentazione sul palco del Gugliemi. Si trattava della ‘Maria di Rohan’ di Donizetti\, che tenne cartellone per 12 sere consecutive (in una città di 20.000 abitanti) e diede inizio a una lunga e appassionata storia teatrale che continua ancora. Sabato 15 novembre alle ore 16 è possibile scoprire il Teatro Guglielmi e la sua storia\, visitando il Foyer\, la Sala e il dietro le quinte attraverso un percorso guidato della durata di circa 60 minuti. In caso di prove o spettacoli\, alcuni spazi potrebbero non essere visitabili e le visite guidate potrebbero essere sospese. Partecipazione gratuita fino ad esaurimento dei posti disponibili. Prenotazione obbligatoria. \n____________________________________________________ \nInfo e pren.: 0585.41678 – 0585.490213 – eventi@comune.massa.ms.it
URL:https://www.eventiintoscana.it/evento/alla-scoperta-del-teatro-guglielmi-massa-carrara
CATEGORIES:Incontri,Massa e Carrara
ATTACH;FMTTYPE=image/png:https://www.eventiintoscana.it/wp-content/uploads/2025/10/Screenshot-2025-10-30-alle-09.48.40.png
END:VEVENT
BEGIN:VEVENT
DTSTART;TZID=Europe/Rome:20251123T210000
DTEND;TZID=Europe/Rome:20260321T233000
DTSTAMP:20260420T023953
CREATED:20251126T002532Z
LAST-MODIFIED:20260117T220311Z
UID:321524-1763931600-1774135800@www.eventiintoscana.it
SUMMARY:Teatro della Rosa\, Pontremoli
DESCRIPTION:La stagione del Teatro della Rosa di Pontremoli prosegue domenica 14 dicembre con ‘Luna Park’ della Kinesis Contemporary Dance Company\, con le coreografie di Angelo Egarese: un luogo fantastico dove danza e musica si intrecciano tra storia\, personaggi e illusioni ottiche. Venerdì 23 gennaio c’è ‘Troilo e Cressida’ de I Sacchi di Sabbia\, uno spettacolo tragicomico su guerra e amore\, che trasforma l’Iliade raccontata nella tragedia di William Shakespeare in una parodia della pace. \n\nInfo: 0187.4601253
URL:https://www.eventiintoscana.it/evento/teatro-della-rosa-pontremoli
CATEGORIES:Massa e Carrara,Teatro
ATTACH;FMTTYPE=image/jpeg:https://www.eventiintoscana.it/wp-content/uploads/2025/11/Teatro-della-Rosa-Pontremoli.jpg
END:VEVENT
END:VCALENDAR