BEGIN:VCALENDAR
VERSION:2.0
PRODID:-//Eventi in Toscana By Toscana Tascabile - ECPv6.15.12.2//NONSGML v1.0//EN
CALSCALE:GREGORIAN
METHOD:PUBLISH
X-WR-CALNAME:Eventi in Toscana By Toscana Tascabile
X-ORIGINAL-URL:https://www.eventiintoscana.it
X-WR-CALDESC:Eventi per Eventi in Toscana By Toscana Tascabile
REFRESH-INTERVAL;VALUE=DURATION:PT1H
X-Robots-Tag:noindex
X-PUBLISHED-TTL:PT1H
BEGIN:VTIMEZONE
TZID:Europe/Rome
BEGIN:DAYLIGHT
TZOFFSETFROM:+0100
TZOFFSETTO:+0200
TZNAME:CEST
DTSTART:20240331T010000
END:DAYLIGHT
BEGIN:STANDARD
TZOFFSETFROM:+0200
TZOFFSETTO:+0100
TZNAME:CET
DTSTART:20241027T010000
END:STANDARD
BEGIN:DAYLIGHT
TZOFFSETFROM:+0100
TZOFFSETTO:+0200
TZNAME:CEST
DTSTART:20250330T010000
END:DAYLIGHT
BEGIN:STANDARD
TZOFFSETFROM:+0200
TZOFFSETTO:+0100
TZNAME:CET
DTSTART:20251026T010000
END:STANDARD
BEGIN:DAYLIGHT
TZOFFSETFROM:+0100
TZOFFSETTO:+0200
TZNAME:CEST
DTSTART:20260329T010000
END:DAYLIGHT
BEGIN:STANDARD
TZOFFSETFROM:+0200
TZOFFSETTO:+0100
TZNAME:CET
DTSTART:20261025T010000
END:STANDARD
BEGIN:DAYLIGHT
TZOFFSETFROM:+0100
TZOFFSETTO:+0200
TZNAME:CEST
DTSTART:20270328T010000
END:DAYLIGHT
BEGIN:STANDARD
TZOFFSETFROM:+0200
TZOFFSETTO:+0100
TZNAME:CET
DTSTART:20271031T010000
END:STANDARD
END:VTIMEZONE
BEGIN:VEVENT
DTSTART;TZID=Europe/Rome:20250106T000000
DTEND;TZID=Europe/Rome:20261231T235900
DTSTAMP:20260422T001255
CREATED:20221026T141420Z
LAST-MODIFIED:20260325T173500Z
UID:302934-1736121600-1798761540@www.eventiintoscana.it
SUMMARY:Le Mostre d'arte a Massa Carrara e provincia
DESCRIPTION:Fino al 30 agosto\nMikayel Ohanjanyan. Legami: Ties that Bind\nIl mudaC | museo delle arti di Carrara accoglie l’arte di Mikayel Ohanjanyan (1976\, Yerevan\, Armenia) ospitando una personale a cura di Christopher Atamian e Tamar Hovsepian di Atamian Hovsepian Curatorial Practice\, piattaforma curatoriale con base a New York. Attraverso cinque sculture in marmo concepite come un’unica monumentale installazione\, la mostra si concentra sugli elementi chiave della ricerca più recente dell’artista: i legami intesi come connessione\, memoria storica e resilienza\, rappresentati da lavori che parlano di identità\, tempo e relazioni umane. Il corpus di opere esposto è stato pensato e realizzato appositamente per Carrara\, città che ospita il nuovo studio dell’artista ed è gemellata con Yerevan. Un’unica installazione dal forte impatto spaziale (‘Legami: Ties that Bind’) è composta da cinque sculture in marmo statuario bianco di diverse dimensioni\, con elementi più monumentali (fino a 121×210×90 cm) e altri più raccolti (53×68×40 cm). È costituita da due blocchi informi\, tenuti insieme da cavi in acciaio inox che incidono la pietra e che generano una evidente tensione fisica e\, al tempo stesso\, alludono a un’idea di unità e interdipendenza: l’atto del legarle insieme suggerisce un tentativo di recuperare una memoria collettiva perduta e di riflettere sulle strutture invisibili che tengono insieme ogni cosa. \nOrario: dal martedì alla domenica 9.30-12.30 e 15-18\, chiuso lunedì. Dal 1° giugno martedì\, sabato\, domenica 17-20\, mercoledì e giovedì 9.30-12\, venerdì 18-22. \nmudaC ǀ museo delle arti Carrara – Via Canal del Rio\, 1 – Carrara \nInfo: 0585.779681 – www.mudac.museodellearticarrara.it
URL:https://www.eventiintoscana.it/evento/mostre-a-massa-carrara-e-provincia
CATEGORIES:Massa e Carrara,Mostra d'Arte
ATTACH;FMTTYPE=image/jpeg:https://www.eventiintoscana.it/wp-content/uploads/2022/10/MASSA-CARRARA.jpg
END:VEVENT
BEGIN:VEVENT
DTSTART;TZID=Europe/Rome:20250412T080000
DTEND;TZID=Europe/Rome:20250927T170000
DTSTAMP:20260422T001255
CREATED:20250131T094422Z
LAST-MODIFIED:20250131T094518Z
UID:314211-1744444800-1758992400@www.eventiintoscana.it
SUMMARY:Tuscany skytrail tour 2025
DESCRIPTION:La Toscana si prepara ad una serie di eventi sportivi per valorizzare le sue montagne e lo skyrunning \nSi terrà domenica 23 febbraio al cinema DOP di Firenzuola le presentazione al pubblico del Tuscany Skytrail Tour\, circuito di gare affiliate alla FISky che collaboreranno per la promozione della corsa in ambiente montano in Toscana. \nSi tratta di una assoluta novità\, frutto del lavoro congiunto tra la Federazione\, ed i principali eventi toscani legati allo skyrunning/Skytrail: Ultra Trail Mugello\, Elba Trail\, Lunigiana Skyrace e Skytrail tre cime Covigliaio. \n Il “Tuscany Skytrail Tour” comprende 4 eventi per un totale di 8 gare. Si tratta di competizioni sportive di corsa in ambiente naturale montano da svolgersi in semi-autonomia. Le gare sono volte a valorizzare il territorio delle varie zone attraverso lo skyrunning ed il trail running ed a promuoverne i valori fondanti: sportività\, lealtà ità\, promozione della montagna e dalla sua cultura rispetto verso le persone e l’ambiente\, condivisione\, inclusione e convivialità. \nIl circuito prevede una classifica finale combinata volta a valorizzare la prestazione sportiva in ogni singola gara e la continuità di presenza agli eventi e sarà valido anche per l’assegnazione della prima Coppa Toscana Skyrunning. \nIl via sarà dato il 12 aprile a Marciana e Marciana Marina (LI) con l’ELBA TRAIL\, evento che celebra il suo storico fondatore Massimo Russo. La corsa porterà i concorrenti dalle spiagge e dalle scogliere rocciose\, attraverso  boschi e severi sentieri di montagna fino alla vetta del Monte Capanne\, che con i suoi 1019 m rappresenta la vetta dell’Arcipelago Toscano. Le gare che assegneranno punteggio per il circuito saranno la 60 km (3000 m D+) e la 25 km (1100 m D+). \nA seguire\, sarà la volta dell’ULTRA TRAIL MUGELLO che si svolgerà il 26 e 27 aprile presso Badia di Moscheta\, Firenzuola (FI). Siamo nel pieno dell’Appennino Fiorentino con le sue ricchissime foreste\, le praterie di crinale\, i torrenti; in particolare il percorso è ricompreso nel Parco Demaniale Giogo Casaglia caratterizzato da ecosistemi di grande valore con altissimi livelli di biodiversità. Per celebrare il felice incontro tra sport natura e storia\, la base logistica dell’evento sarà Badia di Moscheta antichissima abbazia fondata nell’anno 1000 immersa nel cuore di antiche e maestose foreste. Le gare valide per l’assegnazione del punteggio saranno Ultra Trail Mugello 60 km (3200 m D+)\, Mugello Marathon Trail 43km (2300 m D+) e Mugello Trail 24 km (1300 m D+). \nSarà la volta poi dello SKYTRAIL TRE CIME DEL COVIGLIAIO in programma per il 2 giugno con partenza e arrivo nella solare località di Covigliaio\, Firenzuola (FI). La gara inserita in circuito è la 28 km (1600 m D+). Il percorso transita dalle bellissime cime della zona tra cui quella del Monte Beni e del Sasso di Castro che\, caratterizzate da severe rocce basaltiche\, mostrano un paesaggio ricco di guglie e strapiombi e sono definite per questo le “piccole Dolomiti Fiorentine”. \nLa conclusione del circuito spetterà alla LUNIGIANA SKYRACE che si svolgerà il 27 settembre a Fivizzano (MS)\, paese di frontiera dalla straordinaria ricchezza storica e culturale. Saranno due le distanze di gara\, la 45 km (2500 m D+)\, che porterà i concorrenti fin sulla cima della Nuda (1895 m) e poi lungo i severi ma bellissimi crinali appenninici\, e la 22 km (1000 m D+) che\, con un percorso meno impegnativo ma molto suggestivo\, raggiungerà i principali rilievi attorno al paese. Sarà questa l’occasione per la premiazione finale e per ‘assegnazione della Coppa Toscana Skyrunning. \n“Grande la soddisfazione per questo traguardo”\, spiega Giovanni Zorn\, delegato Regionale FISky e coordinatore del Comitato Organizzatore\, “un traguardo a cui siamo giunti dopo mesi di lavoro assieme agli organizzatori dei 4 eventi. Ci aspettiamo un grande riscontro in termini di partecipazione\, ma soprattutto siamo entusiasti di promuovere con questa iniziativa gli ideali fondanti del nostro sport. A contorno di tutto\, il nostro intento è poi stimolare e promuovere i rapporti umani\, il sano stare insieme in condivisione\,  recuperando qualcosa di prezioso che ci è stato tolto con la pandemia e che ancora stentiamo a ritrovare” \n__________________________________________________________________________________________________________________ \nInfo e iscrizioni su: \nhttps://www.wedosport.net/vedi_circuito.cfm?circuito=764 \nhttps://www.wedosport.net/documenti/764_regolamento.pdf \n\nRIEPILOGANDO IL PROGRAMMA DEGLI EVENTI: \n\n12 aprile Elba Trail\,Marciana-Marciana Marina (LI): 60 km 3000 D+\, 25 cm 1100 D+\n26 aprile Ultra Trail Mugello\, Badia di Moscheta\, Firenzuola (FI): UTM 60 km 3200 D+\, MMT 43 km 2300 D+\, MT 24 cm 1100 D+\n2 giugno Skytrail Tre Cime del Covigliaio\, Covigliaio\, Firenzuola (FI): 28 km 1600 D+\n27 settembre Lunigiana Skyrace\, Fivizzano (MS): 45 km 2500 D+\, 22 km 1000 D+ con premiazioni finali e assegnazione Coppa Toscana Skyrunning
URL:https://www.eventiintoscana.it/evento/tuscany-skytrail-tour-2025
CATEGORIES:Firenze,Livorno,Massa e Carrara,Natura e Sport
ATTACH;FMTTYPE=image/png:https://www.eventiintoscana.it/wp-content/uploads/2025/01/Schermata-2025-01-31-alle-10.41.16.png
END:VEVENT
BEGIN:VEVENT
DTSTART;TZID=Europe/Rome:20250613T080000
DTEND;TZID=Europe/Rome:20250928T170000
DTSTAMP:20260422T001255
CREATED:20250515T123614Z
LAST-MODIFIED:20250515T124522Z
UID:317366-1749801600-1759078800@www.eventiintoscana.it
SUMMARY:White Carrara\, Carrara
DESCRIPTION:Dal 13 giugno al 28 settembre 2025 Carrara ospita la IX edizione di White Carrara\, intitolata “Design here and now”. La città si trasforma in un salone a cielo aperto\, con una mostra diffusa di oggetti inediti in marmo locale firmati da oltre 30 designer. Un percorso tra piazze e vie che celebra il dialogo tra arte\, contemporaneità\, artigianato e innovazione. Il centro storico diventa così palcoscenico per artisti di design\, scultura\, fotografia e musica. \n_____________________________________________________________ \nInfo: 0585.787963 – www.whitecarrara.it
URL:https://www.eventiintoscana.it/evento/white-carrara-carrara-2
CATEGORIES:Massa e Carrara,Musica e festival
ATTACH;FMTTYPE=image/jpeg:https://www.eventiintoscana.it/wp-content/uploads/2025/05/HOME2025.jpeg
END:VEVENT
BEGIN:VEVENT
DTSTART;TZID=Europe/Rome:20250628T093000
DTEND;TZID=Europe/Rome:20251026T230000
DTSTAMP:20260422T001255
CREATED:20250805T163329Z
LAST-MODIFIED:20251010T142715Z
UID:319765-1751103000-1761519600@www.eventiintoscana.it
SUMMARY:In gioco. Illusione e divertimento nell’arte italiana 1850-1950\, Carrara (Massa Carrarra)
DESCRIPTION:La Fondazione Giorgio Conti ospita a Palazzo Cucchiari una mostra dai contenuti sorprendenti che trasforma le sale in una specie di ‘parco divertimenti’. Curata da Massimo Bertozzi\, l’esposizione ci racconta come nell’Ottocento\, età del realismo e della modernità\, l’attenzione degli artisti si concentri sul gioco come un’attività umana tra le altre\, uno svago\, un passatempo gradevole\, una pausa dai ‘quotidiani affanni’ che riguarda tutti\, aristocratici e contadini\, preti e militari\, donne e bambini. Si assiste alla scoperta del ‘tempo libero’\, che spesso si trasforma in tempo socialmente utile e produttivo\, come ad esempio nello sport. In mostra circa 110 opere di un’ottantina di artisti. Gli autori sono\, fra gli altri\, Silvestro Lega (‘Le bambine che fanno le signore’\, 1872)\, Carlo Carrà (‘La carrozzella’\, 1916)\, Felice Casorati (‘Ritratto di Cesare Lionello’\, 1911)\, Capogrossi\, Campigli\, Severini\, Fausto Pirandello\, Sironi\, Primo Conti e Antonio Ligabue. Fra le sculture si segnalano il ‘Cantante a spasso’ di Medardo Rosso e la ‘Ballerina’ di Giacomo Manzù del 1938\, il ‘Nuotatore’ di Marino Marini\, il ‘Lottatore’ di Emilio Greco e il ‘Marciatore’ di Francesco Messina. Il percorso è ordinato per temi: ‘Svaghi e ricreazioni del quotidiano’\, ‘Crescere ed imparare: un gioco da ragazzi’\, ‘Intrattenimenti e spettacoli: l’invenzione del tempo libero’ e infine ‘Sfide\, competizione e destino’. \nOrario: martedì\, mercoledì\, giovedì e domenica 9.30-12.30 e 16-20\, venerdì e sabato 9.30-12.30 e 16-23; dal 16 settembre martedì\, mercoledì\, giovedì e domenica 9.30-12.30 e 15-20\, venerdì e sabato 9.30-12.30 e 15-21; sempre chiusa il lunedì. \nPalazzo Cucchiari – Via Cucchiari\, 1 – Carrara \nInfo: 0585 72355 – www.palazzocucchiari.it
URL:https://www.eventiintoscana.it/evento/in-gioco-illusione-e-divertimento-nellarte-italiana-1850-1950-carrara-massa-carrarra
CATEGORIES:Massa e Carrara,Mostre d'Arte
ATTACH;FMTTYPE=image/jpeg:https://www.eventiintoscana.it/wp-content/uploads/2025/08/mostra-in-gioco-orizzontale-16-9.jpg
END:VEVENT
BEGIN:VEVENT
DTSTART;TZID=Europe/Rome:20250630T213000
DTEND;TZID=Europe/Rome:20250804T213000
DTSTAMP:20260422T001255
CREATED:20250515T131709Z
LAST-MODIFIED:20250515T131709Z
UID:317375-1751319000-1754343000@www.eventiintoscana.it
SUMMARY:IMMensamente\, Marina di Carrara
DESCRIPTION:Si chiama “IMMensamente” ed è la nuova grande rassegna musicale che accenderà l’estate 2025 di Marina di Carrara\, promosso da IMM-CarraraFiere\, LEG Live Emotion Group e Comune di Carrara\, con l’obiettivo di trasformare gli spazi fieristici di CarraraFiere in una vera e propria arena per grandi eventi. Il debutto è affidato ai leggendari Village People\, che saliranno sul palco il 30 giugno per la loro unica data italiana. La programmazione prosegue l’11 luglio con Benji & Fede\, il 18 luglio con Zero Assoluto\, il 24 luglio con Mimì Caruso\, vincitrice di X Factor 2024\, per chiudere il 4 agosto con uno show speciale: Dj Aladyn e Shorty di Radio Deejay e M2O\, insieme a Dargen D’Amico in showcase. Inizio spettacoli alle 21:30. \n_____________________________________________________________ \nInfo: 0585.787963 – www.legsrl.net
URL:https://www.eventiintoscana.it/evento/immensamente-marina-di-carrara
CATEGORIES:Massa e Carrara,Musica e festival
ATTACH;FMTTYPE=image/jpeg:https://www.eventiintoscana.it/wp-content/uploads/2025/05/immensamente-carrara-biglietti.jpeg
END:VEVENT
BEGIN:VEVENT
DTSTART;TZID=Europe/Rome:20250705T213000
DTEND;TZID=Europe/Rome:20250808T213000
DTSTAMP:20260422T001255
CREATED:20250621T094333Z
LAST-MODIFIED:20250621T094333Z
UID:318307-1751751000-1754688600@www.eventiintoscana.it
SUMMARY:Palcoscenici Stellati\, Massa
DESCRIPTION:A luglio il cartellone estivo Palcoscenici Stellati 2025 torna ad animare Massa con un ricco calendario di eventi. In piazza Aranci: si parte con “Symphonic tribute to coldplay” (5/07)\, l’esibizione della Filarmonica Arturo Toscanini (12/07) e di Alessandro Quarta e I Solisti Filarmonici Italiani (17/07). Si continua con lo spettacolo di Edoardo Leo (20/07)\, Sarah Toscano in concerto (26/07) e Goran Bregović con la Wedding and Funeral Band (31/07). Si chiude con I Patagarri in concerto (8/08). La programmazione prosegue nella Marina\, nei borghi e nei luoghi più suggestivi del territorio. \n_____________________________________________________________ \nInfo: 0585.490576-348.6661928 – www.palcoscenicistellati.comune.massa.ms.it
URL:https://www.eventiintoscana.it/evento/palcoscenici-stellati-massa
CATEGORIES:Massa e Carrara,Musica e festival
ATTACH;FMTTYPE=image/jpeg:https://www.eventiintoscana.it/wp-content/uploads/2025/06/PALCOSCENICI-STELLATI-1-2025-k-k.jpeg
END:VEVENT
BEGIN:VEVENT
DTSTART;TZID=Europe/Rome:20250803T080000
DTEND;TZID=Europe/Rome:20250907T200000
DTSTAMP:20260422T001255
CREATED:20250727T002624Z
LAST-MODIFIED:20250727T002624Z
UID:319430-1754208000-1757275200@www.eventiintoscana.it
SUMMARY:A Piedi nel Parco delle Alpi Apuane\, Fivizzano (Massa Carrara)
DESCRIPTION:Prosegue anche ad agosto e settembre il programma di escursioni low cost promosso dal Parco Regionale per esplorare la Lunigiana tra natura\, storia e sapori. Il 3 agosto è in programma ‘Foot&Food’ nel Parco\, un’esperienza tra gusto e paesaggio da Equi Terme a Ugliancaldo. Il 9 agosto si cammina verso il Monte Sagro per ammirare il tramonto dalla vetta. Il 17 agosto l’itinerario conduce alla Tecchia di Tenerano\, tra grotte\, preistoria e paesaggi delle valli del Bardine e del Lucido. Ultima data il 7 settembre\, con la salita al Pizzo d’Uccello\, una delle vette più spettacolari delle Apuane. \n\nInfo: 338.5814482 – segreteria@lunigianasostenibile.it \n 
URL:https://www.eventiintoscana.it/evento/a-piedi-nel-parco-delle-alpi-apuane-fivizzano-massa-carrara
CATEGORIES:Massa e Carrara,Natura e Sport
ATTACH;FMTTYPE=image/jpeg:https://www.eventiintoscana.it/wp-content/uploads/2025/07/Apuane.jpg
END:VEVENT
BEGIN:VEVENT
DTSTART;TZID=Europe/Rome:20250811T160000
DTEND;TZID=Europe/Rome:20250815T233000
DTSTAMP:20260422T001255
CREATED:20250728T160017Z
LAST-MODIFIED:20250730T084437Z
UID:319537-1754928000-1755300600@www.eventiintoscana.it
SUMMARY:Filetto Rinascimentale\, Villafranca in Lunigiana (Massa Carrara)
DESCRIPTION:Dall’11 al 15 agosto 2025\, il borgo murato di Filetto si trasforma in un palcoscenico a cielo aperto per raccontare la storia della Lunigiana rinascimentale. La 4ª edizione di Filetto Rinascimentale\, organizzata dall’associazione sarzanese Senza Tempo\, offrirà al pubblico una straordinaria immersione nel passato\, tra rievocazioni storiche\, spettacoli di strada\, conferenze e un’atmosfera che evoca il tardo medioevo e il Rinascimento italiano.\nQuest’anno\, la manifestazione avrà un’importante novità storica: la rievocazione del passaggio di Carlo VIII di Francia in Lunigiana\, un episodio cruciale della storia italiana che segna l’inizio della discesa in Italia del giovane re\, con il suo esercito imponente\, per spodestare gli Aragonesi e accedere al Regno di Napoli. L’arrivo di Carlo VIII in Italia fu un evento che sconvolse l’intera penisola\, modificando gli equilibri locali\, con città saccheggiate e interi territori sottoposti alla prepotenza del suo esercito. Filetto Rinascimentale quest’anno si propone di raccontare questo periodo con una ricostruzione storica che coinvolgerà il pubblico in un’esperienza visiva e sensoriale unica. \nUn Borgo che Torna Indietro nel Tempo\nPasseggiando per le vie di Filetto\, i visitatori saranno trasportati alla fine del ‘400\, in un mondo fatto di colori sgargianti\, drappi\, tendaggi e musiche medievali che risuoneranno tra i vicoli acciottolati del borgo. Artisti e rievocatori provenienti da tutta Italia e da diversi paesi europei porteranno in scena la vita quotidiana del periodo\, proponendo spettacoli di musica\, danza e teatro che riflettono la cultura del Rinascimento. Immaginate di incontrare danzatrici\, medici d’altri tempi\, musici itineranti e affascinanti personaggi che sembrano usciti direttamente dalla fantasia rinascimentale.\nUna delle novità più attese di quest’edizione sarà l’ampliamento dello spazio dedicato al mercato rinascimentale\, che ospiterà banchi storici ricchi di artigianato e antichi mestieri. I visitatori avranno l’opportunità di immergersi nell’atmosfera di un mercato dell’epoca\, dove saranno esposte lavorazioni artigianali del XV secolo\, con dimostrazioni di antiche tecniche di lavoro e prodotti tipici del periodo.\nOgni giorno\, inoltre\, alle 18:30\, il Chiostro del borgo ospiterà conferenze e presentazioni di libri\, approfondendo vari aspetti della storia rinascimentale e medievale della Lunigiana\, con un focus particolare sul passaggio di Carlo VIII e sul contesto storico-politico del tempo. \n \nUn’Offerta Culturale e Storica Completa\nFiletto Rinascimentale non è solo un evento di rievocazione storica\, ma anche un’occasione unica di apprendimento e scoperta. Durante i cinque giorni\, si terranno visite guidate al borgo\, dove esperti storici e guide locali racconteranno la storia di questo antico luogo\, dalle sue origini medievali alle trasformazioni che ha subito nel corso dei secoli.\nPer i più curiosi\, ci sarà anche la possibilità di scoprire la tradizione gastronomica del Rinascimento\, con piatti storici che arricchiranno la proposta culinaria del borgo. Le vie del centro saranno animate da sbandieratori\, cortei rinascimentali\, e dimostrazioni di combattimento che faranno rivivere le atmosfere di un’epoca di conflitti\, potere e cultura. \nSenza Tempo: Un’Associazione che Valorizza la Storia e la Cultura\nL’associazione Senza Tempo APS\, organizzatrice dell’evento\, è un ente del Terzo Settore impegnato da anni nella valorizzazione del patrimonio storico e culturale della regione. Con una sede a Sarzana\, l’associazione ha sviluppato numerosi progetti di rilevanza internazionale\, tra cui la rievocazione storica del Legio Terza Consularis dell’epoca romana\, il Milizia San Giorgio del tardo medioevo e il progetto Senza Gloria\, dedicato alla Seconda Guerra Mondiale. La sua attività si estende anche alla gestione di importanti siti storici\, come il Torrione Genovese a Sarzana e la Galleria Quintino Sella alla Spezia.\nSenza Tempo non è soltanto un’associazione di rievocazione storica\, ma anche un punto di riferimento per eventi culturali e didattici\, con un forte impegno nella realizzazione di percorsi educativi per scuole e nella promozione della cultura attraverso l’uso di tecnologie moderne\, come il Video Mapping e la Realtà Virtuale. \nUn’Edizione da Non Perdere\nCon la rievocazione storica del passaggio di Carlo VIII\, una rinnovata attenzione per i mestieri antichi\, e una ricca offerta culturale che spazia dalla musica medievale alla danza\, Filetto Rinascimentale promette di essere un’edizione imperdibile. Oltre cinquemila visitatori nelle edizioni passate hanno potuto apprezzare la magia di questo evento\, che unisce storia\, cultura e spettacolo in un ambiente suggestivo e affascinante. \n \n\nInfo: 377.1031033 – www.facebook.com/sarzana.senzatempo
URL:https://www.eventiintoscana.it/evento/filetto-rinascimentale-villafranca-in-lunigiana-massa-carrara
CATEGORIES:Feste e Folklore,Massa e Carrara
ATTACH;FMTTYPE=image/jpeg:https://www.eventiintoscana.it/wp-content/uploads/2025/07/Filetto_RInascimentale.jpg
END:VEVENT
BEGIN:VEVENT
DTSTART;TZID=Europe/Rome:20250814T190000
DTEND;TZID=Europe/Rome:20250817T233000
DTSTAMP:20260422T001255
CREATED:20250814T090027Z
LAST-MODIFIED:20250819T235451Z
UID:319720-1755198000-1755473400@www.eventiintoscana.it
SUMMARY:Eventi fine settimana di Ferragosto
DESCRIPTION:Il fine settimana di Ferragosto in Toscana presenta un grande programma di eventi\, tra rievocazioni storiche e feste locali\, spettacoli e sagre per riassaporare le pietanze della tradizione. \nIniziamo dalle rievocazioni storiche. Fino al 15 agosto 2025\, il borgo murato di Filetto\, nel comune di Villafranca in Lunigiana in provincia di Massa Carrara\, si trasforma in un palcoscenico a cielo aperto per raccontare la storia della Lunigiana rinascimentale. La 4ª edizione di Filetto Rinascimentale\, organizzata dall’associazione sarzanese Senza Tempo\, offrirà al pubblico una straordinaria immersione nel passato\, tra rievocazioni storiche\, spettacoli di strada\, conferenze e un’atmosfera che evoca il tardo medioevo e il Rinascimento italiano.\nQuest’anno\, la manifestazione avrà un’importante novità storica: la rievocazione del passaggio di Carlo VIII di Francia in Lunigiana\, un episodio cruciale della storia italiana che segna l’inizio della discesa in Italia del giovane re\, con il suo esercito imponente\, per spodestare gli Aragonesi e accedere al Regno di Napoli. \nDomenica 17 agosto secondo appuntamento a Volterra con Volterra AD 1398\, una delle rievocazioni storiche più suggestive d’Italia. Per due domeniche\, l’antico borgo toscano torna indietro nel tempo\, precisamente all’anno 1398\, con figuranti in costume che animano le vie e le piazze tra mercati medievali\, giocolieri\, musici\, combattimenti e antichi mestieri. \nSempre domenica 17 agosto a Castiglion della Pescaia\, in provincia di Grosseto\, si svolgerà il tradizionale Palio Marinaro\, arrivato alla sua 69ª edizione con partenza alle ore 19 nel suggestivo Canale del Porto. Cinque imbarcazioni rionali\, ciascuna con quattro rematori e un timoniere\, si sfideranno nelle acque del porto\, precedute dalla cerimonia della scelta delle corsie alle ore 11 e da un corteo sul canale. \nDal 14 al 17 agosto 2025\, alle 21:30 sul sagrato del Duomo in Piazza Grande a Montepulciano\, si svolgerà l’86ª edizione del Bruscello Poliziano. L’opera scelta per quest’anno è Paolo e Francesca\, rivisitazione del testo di Don Marcello Del Balio\, già rappresentato nel 1973 e 2003. La prova generale sarà aperta al pubblico il 13 agosto.\nLo spettacolo vedrà coinvolti oltre duecento partecipanti tra cantori\, solisti\, danzatori e figuranti. \nDiamo un’occhiata alle sagre in programma. Torna giovedì 14 e venerdì 15 agosto la 33ª edizione della Sagra della Polenta organizzata dalla società sportiva Alto Santerno di Traversa\, frazione di Firenzuola\, in provincia di Firenze. L’evento si svolge presso l’area verde del Passo della Futa\, offrendo ai visitatori un’occasione per gustare specialità tipiche a base di polenta immersi nella natura. Gli stand gastronomici aprono alle ore 19 il 14 agosto\, . Il 15 agosto apertura sia a pranzo dalle ore 12 che a cena. \nIn Casentino\, a Chiusi della Verna\, fino al 17 agosto al parco Macchini torna la tradizionale Sagra del Tartufo con piatti a base di tartufo scorzone\, protagonista indiscusso della manifestazione\, raccolto nei boschi del Casentino e rinomato per il suo sapore dolce e gustoso
URL:https://www.eventiintoscana.it/evento/eventi-fine-settimana-di-ferragosto
CATEGORIES:arezzo,Feste e Folklore,Firenze,Grosseto,Massa e Carrara,Pisa,Rassegne e Sagre,Siena,Teatro,Volterra
ATTACH;FMTTYPE=image/png:https://www.eventiintoscana.it/wp-content/uploads/2025/07/Eventi-Agosto.png
END:VEVENT
BEGIN:VEVENT
DTSTART;TZID=Europe/Rome:20250822T180000
DTEND;TZID=Europe/Rome:20250906T233000
DTSTAMP:20260422T001255
CREATED:20250728T162826Z
LAST-MODIFIED:20250728T162826Z
UID:319540-1755885600-1757201400@www.eventiintoscana.it
SUMMARY:Marina di Carrara\, Carrara Bier Fest (Massa Carrara)
DESCRIPTION:Due settimane nel segno della birra: dal 22 agosto al 6 settembre a Carrara Fiere torna Carrara Bier Fest\, la storica festa della birra che ormai dal 1976 celebra il gemellaggio con la città bavarese di Ingolstadt. Protagonista indiscussa della festa è ovviamente la birra da gustare nei classici boccali da litro. Insieme anche un menu di specialità gastronomiche della tradizione bavarese\, tra cui brezel\, würstel\, stinco\, patate\, crauti\, strudel. Ogni sera intrattenimento musicale e folkloristico con musica dal vivo e spettacoli. La festa della birra è accompagnata come da tradizione da ‘Tutti in Fiera’\, la mostra mercato del commercio\, dell’artigianato e dei servizi. \n\nInfo: 0585.70214 – www.carrarabierfest.it
URL:https://www.eventiintoscana.it/evento/marina-di-carrara-carrara-bier-fest-massa-carrara
CATEGORIES:Massa e Carrara,Rassegne e Sagre
ATTACH;FMTTYPE=image/png:https://www.eventiintoscana.it/wp-content/uploads/2025/07/Carrara-Bier-Fest.png
END:VEVENT
END:VCALENDAR