BEGIN:VCALENDAR
VERSION:2.0
PRODID:-//Eventi in Toscana By Toscana Tascabile - ECPv6.15.12.2//NONSGML v1.0//EN
CALSCALE:GREGORIAN
METHOD:PUBLISH
X-ORIGINAL-URL:https://www.eventiintoscana.it
X-WR-CALDESC:Eventi per Eventi in Toscana By Toscana Tascabile
REFRESH-INTERVAL;VALUE=DURATION:PT1H
X-Robots-Tag:noindex
X-PUBLISHED-TTL:PT1H
BEGIN:VTIMEZONE
TZID:Europe/Rome
BEGIN:DAYLIGHT
TZOFFSETFROM:+0100
TZOFFSETTO:+0200
TZNAME:CEST
DTSTART:20240331T010000
END:DAYLIGHT
BEGIN:STANDARD
TZOFFSETFROM:+0200
TZOFFSETTO:+0100
TZNAME:CET
DTSTART:20241027T010000
END:STANDARD
BEGIN:DAYLIGHT
TZOFFSETFROM:+0100
TZOFFSETTO:+0200
TZNAME:CEST
DTSTART:20250330T010000
END:DAYLIGHT
BEGIN:STANDARD
TZOFFSETFROM:+0200
TZOFFSETTO:+0100
TZNAME:CET
DTSTART:20251026T010000
END:STANDARD
BEGIN:DAYLIGHT
TZOFFSETFROM:+0100
TZOFFSETTO:+0200
TZNAME:CEST
DTSTART:20260329T010000
END:DAYLIGHT
BEGIN:STANDARD
TZOFFSETFROM:+0200
TZOFFSETTO:+0100
TZNAME:CET
DTSTART:20261025T010000
END:STANDARD
BEGIN:DAYLIGHT
TZOFFSETFROM:+0100
TZOFFSETTO:+0200
TZNAME:CEST
DTSTART:20270328T010000
END:DAYLIGHT
BEGIN:STANDARD
TZOFFSETFROM:+0200
TZOFFSETTO:+0100
TZNAME:CET
DTSTART:20271031T010000
END:STANDARD
END:VTIMEZONE
BEGIN:VEVENT
DTSTART;TZID=Europe/Rome:20250106T000000
DTEND;TZID=Europe/Rome:20261231T235900
DTSTAMP:20260423T231752
CREATED:20221026T141420Z
LAST-MODIFIED:20260325T173500Z
UID:302934-1736121600-1798761540@www.eventiintoscana.it
SUMMARY:Le Mostre d'arte a Massa Carrara e provincia
DESCRIPTION:Fino al 30 agosto\nMikayel Ohanjanyan. Legami: Ties that Bind\nIl mudaC | museo delle arti di Carrara accoglie l’arte di Mikayel Ohanjanyan (1976\, Yerevan\, Armenia) ospitando una personale a cura di Christopher Atamian e Tamar Hovsepian di Atamian Hovsepian Curatorial Practice\, piattaforma curatoriale con base a New York. Attraverso cinque sculture in marmo concepite come un’unica monumentale installazione\, la mostra si concentra sugli elementi chiave della ricerca più recente dell’artista: i legami intesi come connessione\, memoria storica e resilienza\, rappresentati da lavori che parlano di identità\, tempo e relazioni umane. Il corpus di opere esposto è stato pensato e realizzato appositamente per Carrara\, città che ospita il nuovo studio dell’artista ed è gemellata con Yerevan. Un’unica installazione dal forte impatto spaziale (‘Legami: Ties that Bind’) è composta da cinque sculture in marmo statuario bianco di diverse dimensioni\, con elementi più monumentali (fino a 121×210×90 cm) e altri più raccolti (53×68×40 cm). È costituita da due blocchi informi\, tenuti insieme da cavi in acciaio inox che incidono la pietra e che generano una evidente tensione fisica e\, al tempo stesso\, alludono a un’idea di unità e interdipendenza: l’atto del legarle insieme suggerisce un tentativo di recuperare una memoria collettiva perduta e di riflettere sulle strutture invisibili che tengono insieme ogni cosa. \nOrario: dal martedì alla domenica 9.30-12.30 e 15-18\, chiuso lunedì. Dal 1° giugno martedì\, sabato\, domenica 17-20\, mercoledì e giovedì 9.30-12\, venerdì 18-22. \nmudaC ǀ museo delle arti Carrara – Via Canal del Rio\, 1 – Carrara \nInfo: 0585.779681 – www.mudac.museodellearticarrara.it
URL:https://www.eventiintoscana.it/evento/mostre-a-massa-carrara-e-provincia
CATEGORIES:Massa e Carrara,Mostra d'Arte
ATTACH;FMTTYPE=image/jpeg:https://www.eventiintoscana.it/wp-content/uploads/2022/10/MASSA-CARRARA.jpg
END:VEVENT
BEGIN:VEVENT
DTSTART;TZID=Europe/Rome:20250301T180000
DTEND;TZID=Europe/Rome:20250331T180000
DTSTAMP:20260423T231752
CREATED:20250131T100412Z
LAST-MODIFIED:20250228T111544Z
UID:314224-1740852000-1743444000@www.eventiintoscana.it
SUMMARY:Teatro degli Animosi\, Massa Carrara
DESCRIPTION:Prosegue anche questo mese di marzo la rassegna ‘I Concerti del Ridotto’ organizzata dal Comune di Carrara con l’appuntamento di domenica 16 marzo alle ore 18 in compagnia di Dario Maraviglia alla chitarra nelle musiche di Barrios\, Brouwer\, Segovia\, Weiss e Tarrega. Il 28 il Teatro degli Animosi ospita anche il concerto diretto da Erika Yashima con il violinista Kristóf Baráti nel ‘Concerto per violino e orchestra op. 77’ di Brahms e ‘la Sinfonia n. 2 op. 36’ di Beethoven. \nInfo: 0585.641317 – teatrideglianimosi@comune.carrara.ms.it
URL:https://www.eventiintoscana.it/evento/teatro-degli-animosi-massa-carrara
CATEGORIES:Classica,Massa e Carrara
ATTACH;FMTTYPE=image/jpeg:https://www.eventiintoscana.it/wp-content/uploads/2025/01/theatre.jpg
END:VEVENT
BEGIN:VEVENT
DTSTART;TZID=Europe/Rome:20250302T110000
DTEND;TZID=Europe/Rome:20250325T123000
DTSTAMP:20260423T231752
CREATED:20250226T145436Z
LAST-MODIFIED:20250226T145436Z
UID:314931-1740913200-1742905800@www.eventiintoscana.it
SUMMARY:Appuntamenti al Planetario\, Massa Carrara
DESCRIPTION:Il planetario comunale di Marina di Carrara\, situato nei locali della Scuola primaria ‘Paradiso A’ (via Bassagrande\, 47) e gestito dal Gruppo Astrofili Massesi\, presenta a marzo il consueto calendario. Gli incontri del venerdì cominciano il 7 con il tema ‘L’altra metà del cielo. Le donne in astronomia’ e proseguono i 14 con ‘Marte fra passato e futuro’. Il 21 si parla del tema ‘Equinozi e gli altri movimenti della Terra’ e il 25 si conclude parlando dell’Osservazione dell’Eclisse parziale del Sole (11-12.30) da Marina di Massa. Domenica 2 marzo apertura pomeridiana alle ore 16.30 con visita al planetario di tipo ottico meccanico del centro\, inaugurato negli anni Ottanta\, in grado di visualizzare\, con sorprendente risoluzione e verosimiglianza\, oltre 1000 stelle su di una volta semisferica in polistirolo del diametro di 6 metri. \n___________________________________________________________________________________________ \nInfo e pren.: 333.1731533 – planetario@comune.carrara.ms.it
URL:https://www.eventiintoscana.it/evento/appuntamenti-al-planetario-massa-carrara
CATEGORIES:Incontri,Massa e Carrara
ATTACH;FMTTYPE=image/png:https://www.eventiintoscana.it/wp-content/uploads/2025/02/Schermata-2025-02-26-alle-15.54.14.png
END:VEVENT
BEGIN:VEVENT
DTSTART;TZID=Europe/Rome:20250303T080000
DTEND;TZID=Europe/Rome:20250411T210000
DTSTAMP:20260423T231752
CREATED:20250303T120158Z
LAST-MODIFIED:20250322T101120Z
UID:315200-1740988800-1744405200@www.eventiintoscana.it
SUMMARY:Teatro degli Animosi\, Carrara
DESCRIPTION:TEATRO \nSabato 1 e domenica 2 si parte con Edipo Re di Sofocle\, un’interpretazione del classico che parla al contemporaneo\, regia di Andrea De Rosa. Il 15 per Contemporanea Il Figlio Della Tempesta di Armando Punzo\, progetto sull’indissolubile rapporto tra parole e suono. Venerdì 4 aprile\, ultimo appuntamento con La Ferocia\, dal romanzo di Nicola Lagioia\, regia Michele Altamura. \nMUSICA \nProsegue anche questo mese la rassegna ‘I Concerti del Ridotto’ organizzata dal Comune di Carrara con l’appuntamento di venerdì 11 aprile alle ore 21 in compagnia di Sara Pastine al violino. Il programma musicale prevede un repertorio che va da Telemann a Bach\, da Kreisler a Ysaye fino a Prokofiev. \nInfo: 0585.641317
URL:https://www.eventiintoscana.it/evento/teatro-degli-animosi-carrara-2
CATEGORIES:Classica,Massa e Carrara,Teatro
ATTACH;FMTTYPE=image/jpeg:https://www.eventiintoscana.it/wp-content/uploads/2025/03/Teatro-degli-animosi-carrara.jpg
END:VEVENT
BEGIN:VEVENT
DTSTART;TZID=Europe/Rome:20250308T210000
DTEND;TZID=Europe/Rome:20250330T210000
DTSTAMP:20260423T231752
CREATED:20250303T115933Z
LAST-MODIFIED:20250303T154122Z
UID:315198-1741467600-1743368400@www.eventiintoscana.it
SUMMARY:Teatro Guglielmi\, Massa
DESCRIPTION:Sabato 8 e domenica 9 Caterina Guzzanti presenta il suo Secondo Lei\, con Federico Vigorito. Sabato 22 Giulietta\, show di danza e live music con Eleonora Abbagnato\, sua figlia Julia\, Ramon Agnelli\, Simone Agrò\, Rebecca Bianchi e altre étoiles\, a cura di Daniele Cipriani. Coreografie di Sasha Riva\, Simone Repele\, UweScholz\, Giorgio Mancini sulle note di Ciaikovsky\, Berlioz\, Bernstein. Il 29 e 30 Boomers\, di e con Marco Paolini\, Patrizia Laquidara e Michela Signori\, in un dialogo tra padri e figli in un mondo virtuale. Per Contemporaneamente il 5 c’è Il Tango Delle Capinere\, testi e regia di Emma Dante\, con Sabino Civilleri e Manuela Lo Sicco. Domenica 23 Giulietta e Romeo al Teatro dei Servi\, concerto sulle scene Shakespeariane\, di e con Roberto Latini e Federica Carra\, musiche G. Misiti. \n_______________________________________________________________________ \nInfo: 0585.41678 – teatroguglielmi.it
URL:https://www.eventiintoscana.it/evento/teatro-guglielmi-massa
CATEGORIES:Massa e Carrara,Teatro
ATTACH;FMTTYPE=image/jpeg:https://www.eventiintoscana.it/wp-content/uploads/2025/03/teatro-Guglielmi-Massa-.jpg
END:VEVENT
BEGIN:VEVENT
DTSTART;TZID=Europe/Rome:20250312T080000
DTEND;TZID=Europe/Rome:20250314T170000
DTSTAMP:20260423T231752
CREATED:20250219T173642Z
LAST-MODIFIED:20250226T013005Z
UID:314580-1741766400-1741971600@www.eventiintoscana.it
SUMMARY:Tuscany Yachting Week\, Carrara (Massa e Carrara)
DESCRIPTION:Prende il via il 12 marzo la terza edizione della Tuscany Yachting Week\, evento che congiunge le manifestazioni SEATEC\, alla sua 22esima edizione\, unica rassegna in Italia dedicata alle aziende che si rivolgono alla fornitura della cantieristica navale e da diporto e la 16esima edizione di COMPOTEC MARINE\, dedicata ai materiali compositi e alle tecnologie correlate nel settore nautico\, organizzate da Carrarafiere con la 15esima edizione di YARE\, (Yachting Aftersales and Refit Experience)\, l’appuntamento yachting internazionale dedicato al refit e all’aftersales del comparto superyacht\, organizzato da Navigo\, il centro servizi di Viareggio per l’innovazione e lo sviluppo della nautica. L’accordo tra le manifestazioni mantiene le caratteristiche distintive dei singoli eventi valorizzando al meglio l’identità di SEATEC-COMPOTEC MARINE come evento B2B con format espositivo rivolto alla filiera della subfornitura nautica\, ai materiali costruttivi e alle tecnologie relative nel cuore di una delle principali aree italiane della tradizione ingegneristica\, artigianale e industriale per la produzione nautica. Attraverso un percorso fra accessori e materiali\, sarà possibile conoscere nuovi prodotti e tecnologie e discuterne con produttori\, tecnici e progettisti. \nSeatec-Compotec Marine |13 e 14 Marzo 2025 a CarraraFiere| offre un ricco programma di incontri e di eventi con dibattiti\, workshop e talk su argomenti specifici\, in grado di offrire competenze pratiche e spunti di riflessione sui temi più attuali del settore\, in un contesto stimolante e dinamico. Il focus della nuova edizione di Seatec-Compotec Marine verte sul tema dell’innovazione. La selezione dei temi è stata dettata dalla storia e tradizione della regione\, che vanta un cluster dedicato alla nautica con cantieri di altissimo livello\, un vasto indotto e centri universitari come Genova e La Spezia. ________________________________________________________________________________\nInformazioni: sea-tec.it
URL:https://www.eventiintoscana.it/evento/tuscany-yachting-week-carrara
CATEGORIES:Fiere e Mercatini,Massa e Carrara
ATTACH;FMTTYPE=image/jpeg:https://www.eventiintoscana.it/wp-content/uploads/2025/02/Tuscany-Yachting-Week.jpg
END:VEVENT
BEGIN:VEVENT
DTSTART;TZID=Europe/Rome:20250313T090000
DTEND;TZID=Europe/Rome:20250514T190000
DTSTAMP:20260423T231752
CREATED:20250226T011911Z
LAST-MODIFIED:20250226T012833Z
UID:314774-1741856400-1747249200@www.eventiintoscana.it
SUMMARY:Seatec & Compotec\, Carrara (Massa e Carrara)
DESCRIPTION:Giovedì 13 e venerdì 14 marzo i padiglioni di Carrara Fiere ospitano una nuova edizione di Seatec\, l’unico evento professionale dell’area mediterranea dedicato alla tecnologia\, alla componentistica e al design nel settore nautico. Insieme\, si svolge anche Compotec Marine\, dedicato ai materiali compositi del mondo della nautica. Nella due giorni sarà presente un’area expo con prodotti e servizi di eccellenza della filiera della Marine Industry italiana e internazionale\, e tutta una serie di appuntamenti\, come incontri tra espositori e buyer internazionali\, workshop\, seminari\, convegni sugli andamenti e sulle novità di settore\, e ancora contest\, concorsi e premi. Tra questi MYDA (Millennium Yacht Design Award)\, il concorso internazionale di design di imbarcazioni da diporto\, e i premi ‘Qualitec Design Awards’ e ‘Qualitec Technology Awards’.\n________________________________________________________________________________ \nInfo: 0585.787963 – www.sea-tec.it
URL:https://www.eventiintoscana.it/evento/seatec-compotec-marina-di-carrara-massa-carrara
CATEGORIES:Fiere e Mercatini,Massa e Carrara
ATTACH;FMTTYPE=image/png:https://www.eventiintoscana.it/wp-content/uploads/2025/02/Seatec-e-Compotec.png
END:VEVENT
BEGIN:VEVENT
DTSTART;TZID=Europe/Rome:20250315T150000
DTEND;TZID=Europe/Rome:20250316T110000
DTSTAMP:20260423T231752
CREATED:20250226T145834Z
LAST-MODIFIED:20250226T145834Z
UID:314936-1742050800-1742122800@www.eventiintoscana.it
SUMMARY:Visite al Teatro Guglielmi\, Massa Carrara
DESCRIPTION:Con la Stagione di spettacolo\, proseguono nello storico Teatro Guglielmi di Massa anche le visite guidate. È possibile scoprire il teatro e la sua storia visitando il Foyer\, la Sala e il dietro quinte attraverso un percorso guidato della durata di circa 60 minuti. Il Teatro Comunale Guglielmi (Piazza del Teatro 1) è un teatro storico edificato nel XIX secolo. Dedicato all’illustre musicista massese del ’700 Pietro Alessandro Guglielmi\, il teatro conserva ancora la forma e le decorazioni della sua prima costruzione\, progettata nel 1872 dall’architetto Vincenzo Micheli\, che aveva già progettato il teatro di Pisa. I lavori procedettero molto lentamente e furono completati solo nel 1886\, l’inaugurazione avvenne il 25 aprile di quell’anno con la messa in scena di ‘Maria di Rohan’ di Gaetano Donizetti. I prossimi appuntamenti sono nel weekend 15 e 16 marzo: sabato 15 alle ore 16\, domenica 16 alle ore 11. Partecipazione gratuita fino ad esaurimento dei posti\, prenotazione obbligatoria. \n________________________________________________________________________________________________________________________________________ \nInfo e pren.: 0585.41678 – 0585.490213 – eventi@comune.massa..ms.it
URL:https://www.eventiintoscana.it/evento/visite-al-teatro-guglielmi-massa-carrara
CATEGORIES:Incontri,Massa e Carrara
ATTACH;FMTTYPE=image/png:https://www.eventiintoscana.it/wp-content/uploads/2025/02/Schermata-2025-02-26-alle-15.56.31.png
END:VEVENT
BEGIN:VEVENT
DTSTART;TZID=Europe/Rome:20250329T100000
DTEND;TZID=Europe/Rome:20250330T190000
DTSTAMP:20260423T231752
CREATED:20250226T012812Z
LAST-MODIFIED:20250226T013040Z
UID:314780-1743242400-1743361200@www.eventiintoscana.it
SUMMARY:Gamics\, Carrara (Massa e Carrara)
DESCRIPTION:Un fine settimana all’insegna di fumetti\, giochi e cultura pop: sabato 29 e domenica 30 marzo al centro fieristico di Carrara Fiere è in programma una nuova edizione di Gamics\, la fiera del fumetto\, del gioco\, del videogioco e della cultura pop. Negli oltre ventimila metri quadrati di esposizione è allestita una grande mostra mercato\, dove poter trovare fumetti\, manga\, gadget\, action figures\, funko pop\, videogames\, giochi da tavolo\, accessori per cosplay e molto altro. Sarà possibile partecipare attivamente\, giocando nelle aree a tema\, scoprendo i migliori videogames e ritrovando i grandi classici nell’area retrogaming\, con più di cinquanta console vintage e settanta originali cabinati da sala giochi. E ancora\, passeggiando nel centro fieristico sarà possibile incontrare numerosi cosplayer e in artist alley oltre trenta fumettisti di fama internazionale. In programma inoltre live show con le sigle dei cartoni animati\, incontri con autori e doppiatori\, contest\, conferenze e workshop\, oltre a tante iniziative a tema fantascienza\, fantasy e cultura giapponese. Tra gli ospiti\, domenica 30 marzo saranno a Gamics Giorgio Vanni e Giovanni Muciaccia. Porte aperte al pubblico sabato e domenica dalle ore 10 alle ore 19. \n________________________________________________________________________________ \nInfo: 348.5408441 – www.gamics.it
URL:https://www.eventiintoscana.it/evento/gamics-carrara-massa-e-carrara
CATEGORIES:Fiere e Mercatini,Massa e Carrara
ATTACH;FMTTYPE=image/jpeg:https://www.eventiintoscana.it/wp-content/uploads/2025/02/Gamics-Carrara-2025.jpg
END:VEVENT
END:VCALENDAR