BEGIN:VCALENDAR
VERSION:2.0
PRODID:-//Eventi in Toscana By Toscana Tascabile - ECPv6.15.12.2//NONSGML v1.0//EN
CALSCALE:GREGORIAN
METHOD:PUBLISH
X-ORIGINAL-URL:https://www.eventiintoscana.it
X-WR-CALDESC:Eventi per Eventi in Toscana By Toscana Tascabile
REFRESH-INTERVAL;VALUE=DURATION:PT1H
X-Robots-Tag:noindex
X-PUBLISHED-TTL:PT1H
BEGIN:VTIMEZONE
TZID:Europe/Rome
BEGIN:DAYLIGHT
TZOFFSETFROM:+0100
TZOFFSETTO:+0200
TZNAME:CEST
DTSTART:20240331T010000
END:DAYLIGHT
BEGIN:STANDARD
TZOFFSETFROM:+0200
TZOFFSETTO:+0100
TZNAME:CET
DTSTART:20241027T010000
END:STANDARD
BEGIN:DAYLIGHT
TZOFFSETFROM:+0100
TZOFFSETTO:+0200
TZNAME:CEST
DTSTART:20250330T010000
END:DAYLIGHT
BEGIN:STANDARD
TZOFFSETFROM:+0200
TZOFFSETTO:+0100
TZNAME:CET
DTSTART:20251026T010000
END:STANDARD
BEGIN:DAYLIGHT
TZOFFSETFROM:+0100
TZOFFSETTO:+0200
TZNAME:CEST
DTSTART:20260329T010000
END:DAYLIGHT
BEGIN:STANDARD
TZOFFSETFROM:+0200
TZOFFSETTO:+0100
TZNAME:CET
DTSTART:20261025T010000
END:STANDARD
BEGIN:DAYLIGHT
TZOFFSETFROM:+0100
TZOFFSETTO:+0200
TZNAME:CEST
DTSTART:20270328T010000
END:DAYLIGHT
BEGIN:STANDARD
TZOFFSETFROM:+0200
TZOFFSETTO:+0100
TZNAME:CET
DTSTART:20271031T010000
END:STANDARD
END:VTIMEZONE
BEGIN:VEVENT
DTSTART;TZID=Europe/Rome:20250106T000000
DTEND;TZID=Europe/Rome:20261231T235900
DTSTAMP:20260425T003743
CREATED:20221026T141420Z
LAST-MODIFIED:20260325T173500Z
UID:302934-1736121600-1798761540@www.eventiintoscana.it
SUMMARY:Le Mostre d'arte a Massa Carrara e provincia
DESCRIPTION:Fino al 30 agosto\nMikayel Ohanjanyan. Legami: Ties that Bind\nIl mudaC | museo delle arti di Carrara accoglie l’arte di Mikayel Ohanjanyan (1976\, Yerevan\, Armenia) ospitando una personale a cura di Christopher Atamian e Tamar Hovsepian di Atamian Hovsepian Curatorial Practice\, piattaforma curatoriale con base a New York. Attraverso cinque sculture in marmo concepite come un’unica monumentale installazione\, la mostra si concentra sugli elementi chiave della ricerca più recente dell’artista: i legami intesi come connessione\, memoria storica e resilienza\, rappresentati da lavori che parlano di identità\, tempo e relazioni umane. Il corpus di opere esposto è stato pensato e realizzato appositamente per Carrara\, città che ospita il nuovo studio dell’artista ed è gemellata con Yerevan. Un’unica installazione dal forte impatto spaziale (‘Legami: Ties that Bind’) è composta da cinque sculture in marmo statuario bianco di diverse dimensioni\, con elementi più monumentali (fino a 121×210×90 cm) e altri più raccolti (53×68×40 cm). È costituita da due blocchi informi\, tenuti insieme da cavi in acciaio inox che incidono la pietra e che generano una evidente tensione fisica e\, al tempo stesso\, alludono a un’idea di unità e interdipendenza: l’atto del legarle insieme suggerisce un tentativo di recuperare una memoria collettiva perduta e di riflettere sulle strutture invisibili che tengono insieme ogni cosa. \nOrario: dal martedì alla domenica 9.30-12.30 e 15-18\, chiuso lunedì. Dal 1° giugno martedì\, sabato\, domenica 17-20\, mercoledì e giovedì 9.30-12\, venerdì 18-22. \nmudaC ǀ museo delle arti Carrara – Via Canal del Rio\, 1 – Carrara \nInfo: 0585.779681 – www.mudac.museodellearticarrara.it
URL:https://www.eventiintoscana.it/evento/mostre-a-massa-carrara-e-provincia
CATEGORIES:Massa e Carrara,Mostra d'Arte
ATTACH;FMTTYPE=image/jpeg:https://www.eventiintoscana.it/wp-content/uploads/2022/10/MASSA-CARRARA.jpg
END:VEVENT
BEGIN:VEVENT
DTSTART;TZID=Europe/Rome:20250202T210000
DTEND;TZID=Europe/Rome:20250223T090000
DTSTAMP:20260425T003743
CREATED:20250131T180334Z
LAST-MODIFIED:20250131T180505Z
UID:314357-1738530000-1740301200@www.eventiintoscana.it
SUMMARY:Teatro Guglielmi\, Massa Carrara
DESCRIPTION:Domenica 2 febbraio in scena la musica dal vivo con la Filarmonica Toscanini in ‘Patetica\, un’autobiografia’: Brahms e Čajkovskij\, diretti dal maestro Oleg Caetani mentre al violino troviamo Boris Belkin. Dal 14 a domenica 16 prosa con Andrea Pennacchi in ‘Arlecchino?’\, scritto e diretto da Marco Baliani. Mercoledì 19 ‘Notte Morricone’: il coreografo Marcos Morau omaggia il grande Maestro curando coreografie e regia. Per il teatro ragazzi: domenica 9 ‘Il Gruffalò’\, musical per bambini; domenica 23 ‘Alice nel paese delle meraviglie’\, tra video\, ombre e trasparenze. \n____________________________________________________________________________________________________________________________________________________________ \nInfo: 0585.41678 – www.teatroguglielmi.it
URL:https://www.eventiintoscana.it/evento/teatro-guglielmi-massa-carrara
CATEGORIES:Massa e Carrara,Teatro
ATTACH;FMTTYPE=image/png:https://www.eventiintoscana.it/wp-content/uploads/2025/01/Schermata-2025-01-31-alle-19.01.57.png
END:VEVENT
BEGIN:VEVENT
DTSTART;TZID=Europe/Rome:20250205T080000
DTEND;TZID=Europe/Rome:20250223T170000
DTSTAMP:20260425T003743
CREATED:20250131T180919Z
LAST-MODIFIED:20250131T180919Z
UID:314362-1738742400-1740330000@www.eventiintoscana.it
SUMMARY:Teatro degli Animosi\, Carrara
DESCRIPTION:Mercoledì 5 e giovedì 6 lo straordinario Gianni Fantoni in ‘Fantozzi – Una tragedia’\, per la regia di Davide Livermore. L’11 e il 12 ‘La Grande Magia’ di Eduardo De Filippo\, con Natalino Balasso e Michele Di Mauro per la regia di Michele Russo. Sabato 22 e domenica 23 arriva la comicità di ‘Premiata Pasticceria Bellavista’ di Vincenzo Salemme\, con Francesco Di Leva\, Adriano Pantaleo e Giuseppe Gaudino. \n_________________________________________________________________________________________________________________________________________ \nInfo: 0585.641419 – www.toscanaspettacolo.it
URL:https://www.eventiintoscana.it/evento/teatro-degli-animosi-carrara
CATEGORIES:Massa e Carrara,Teatro
ATTACH;FMTTYPE=image/png:https://www.eventiintoscana.it/wp-content/uploads/2025/01/Schermata-2025-01-31-alle-19.08.19.png
END:VEVENT
BEGIN:VEVENT
DTSTART;VALUE=DATE:20250215
DTEND;VALUE=DATE:20250217
DTSTAMP:20260425T003743
CREATED:20250130T012825Z
LAST-MODIFIED:20250130T012955Z
UID:314125-1739577600-1739750399@www.eventiintoscana.it
SUMMARY:White Marble Marathon\, Carrara
DESCRIPTION:Sabato 15 e domenica 16 febbraio prende il via la White Marble Marathon a cura della ASD World Running Academy e Fondazione Marmo: una Maratona in 5 Eventi! Un weekend di sport e solidarietà\, ma anche un’occasione per visitare Carrara e Massa e godere dei tanti prodotti tipici del territorio. Sabato ore 15 ‘Alla scoperta della Citta della Luna’: un Urban Trail Competitivo (14Km) e uno Non Competitivo di 10Km per una family-run aperta a tutti. Domenica alle ore 9 Start in contemporanea delle 4 distanze competitive\, con partenza e arrivo a Marina di Carrara. Sono la classica ‘White Marble Marathon’ di 42\,2Km sul lungomare Apuano\, passando da Avenza\, Marina di Massa e Cinquale di Montignoso; la ‘WRA Half Marathon’\, di 21Km; la ‘Marble Hero’ di 30Km e la ‘10K-Per Davide’. Tutte gare da Best-Time\, su un percorso asfaltato e pianeggiante certificato FIDAL e chiuso al traffico veicolare\, nel rispetto della regola 240 IAAF. Ritrovo c/o Expo Maratona di Carrara Fiere. \n________________________________________________________________________________ \nInfo: 0585.787963 – www.whitemarblemarathon.com \n 
URL:https://www.eventiintoscana.it/evento/white-marble-marathon-carrara
CATEGORIES:Massa e Carrara,Natura e Sport
ATTACH;FMTTYPE=image/jpeg:https://www.eventiintoscana.it/wp-content/uploads/2025/01/White-Marble-Marathon.jpg
END:VEVENT
BEGIN:VEVENT
DTSTART;VALUE=DATE:20250223
DTEND;VALUE=DATE:20250227
DTSTAMP:20260425T003743
CREATED:20250130T003626Z
LAST-MODIFIED:20250130T003646Z
UID:314105-1740268800-1740614399@www.eventiintoscana.it
SUMMARY:Tirreno C.T. e Balnearia\, Marina di Carrara (Massa Carrara)
DESCRIPTION:Doppio consueto appuntamento nei padiglioni di Carrara Fiere: dal 23 al 26 febbraio sono in programma le nuove edizioni di Tirreno C.T. e Balnearia. Tirreno C.T. è l’evento di riferimento per l’ospitalità e per la ristorazione e anche nella 45ª edizione presenterà le principali novità del settore. Nei padiglioni di Carrara Fiere sono attesi circa 500 espositori; in programma approfondimenti\, presentazioni\, formazione\, concorsi\, degustazioni\, oltre alle competizioni tra cuochi. A tal proposito\, il Pentathlon e il Triathlon della cucina tornano con una grande novità: la cucina per i bambini con focus e dimostrazioni sul tema. E il 23 febbraio si terrà anche il battesimo della Confederazione Italiana Cuochi e Artigiani per l’Enogastronomia. Insieme a Tirreno C.T. si svolgerà anche Balnearia\, il salone professionale dell’outdoor design\, del benessere e delle attrezzature balneari. Balnearia si propone di portare negli spazi del centro fieristico il meglio dei settori merceologici\, oltre a essere anche un importante momento d’incontro per tutti gli operatori. \n________________________________________________________________________________ \nInfo: 0585.787963 – www.tirrenoct.it
URL:https://www.eventiintoscana.it/evento/tirreno-c-t-e-balnearia-marina-di-carrara-massa-carrara
CATEGORIES:Fiere e Mercatini,Massa e Carrara
ATTACH;FMTTYPE=image/jpeg:https://www.eventiintoscana.it/wp-content/uploads/2025/01/Tirreno-C.T.-e-Balnearia.jpg
END:VEVENT
END:VCALENDAR